FILENAME: O4811325.SWS.47932.tif
QUADRANGLE_NAME: LAKE MCDONALD WEST
QUADRANT: SW
WEST_LONGITUDE: -114 0 0.00000
EAST_LONGITUDE: -113 56 15.00000
NORTH_LATITUDE: 48 33 45.00000
SOUTH_LATITUDE: 48 30 0.00000
PRODUCTION_DATE: 1994 11 4
RASTER_ORDER: LEFT_RIGHT/TOP_BOTTOM
BAND_ORGANIZATION: SINGLE FILE
BAND_CONTENT: BLACK&WHITE
BAND_CONTENT: UNDEFINED
BAND_CONTENT: UNDEFINED
BITS_PER_PIXEL: 8
SAMPLES_AND_LINES: 5557 7729
HORIZONTAL_DATUM: NAD83
HORIZONTAL_COORDINATE_SYSTEM: UTM
COORDINATE_ZONE: 12
HORIZONTAL_UNITS: METERS
HORIZONTAL_RESOLUTION: 1.00000
SECONDARY_HORIZONTAL_DATUM: NAD27
XY_ORIGIN: 278025.00000 5383469.00000
SECONDARY_XY_ORIGIN: 278088.42900 5383250.93600
NATION: US
STATE: MT
NW_QUAD_CORNER_XY: 278669.47700 5383168.65800
NE_QUAD_CORNER_XY: 283280.02500 5382989.40400
SE_QUAD_CORNERY_XY: 283012.94200 5376043.26100
SW_QUAD_CORNER_XY: 278396.70300 5376222.56300
SECONDARY_NW_QUAD_XY: 278662.43000 5382949.81600
SECONDARY_NE_QUAD_XY: 283273.12500 5382770.55600
SECONDARY_SE_QUAD_XY: 283006.04200 5375824.42100
SECONDARY_SW_QUAD_XY: 278389.65600 5376003.72900
RMSE_XY: 1.60000
IMAGE_SOURCE: BLACK AND WHITE FILM
SOURCE_IMAGE_ID: NAPP 2634 091
SOURCE_IMAGE_DATE: 1991 8 3
SOURCE_DEM_DATE: 1994 11 4
AGENCY: WESTERN MAPPING CENTER (WMC)
PRODUCER: Science Applications International
PRODUCTION_SYSTEM: GIS/MAGIC
COMPRESSION: UNDEFINED
STANDARD_VERSION: 1996 12
METADATA_DATE: 1997 7 28
DATA_FILE_SIZE: 42955610
BYTE_COUNT: 5557
