FILENAME: O4811324.SES.46708.tif
QUADRANGLE_NAME: BROWNING NE
QUADRANT: SE
WEST_LONGITUDE: -113 3 45.00000
EAST_LONGITUDE: -113 0 0.00000
NORTH_LATITUDE: 48 41 15.00000
SOUTH_LATITUDE: 48 37 30.00000
PRODUCTION_DATE: 1994 12 12
RASTER_ORDER: LEFT_RIGHT/TOP_BOTTOM
BAND_ORGANIZATION: SINGLE FILE
BAND_CONTENT: BLACK&WHITE
BAND_CONTENT: UNDEFINED
BAND_CONTENT: UNDEFINED
BITS_PER_PIXEL: 8
SAMPLES_AND_LINES: 5458 7674
HORIZONTAL_DATUM: NAD83
HORIZONTAL_COORDINATE_SYSTEM: UTM
COORDINATE_ZONE: 12
HORIZONTAL_UNITS: METERS
HORIZONTAL_RESOLUTION: 1.00000
SECONDARY_HORIZONTAL_DATUM: NAD27
XY_ORIGIN: 347649.00000 5395071.00000
SECONDARY_XY_ORIGIN: 347712.21500 5394852.85200
NATION: US
STATE: MT
NW_QUAD_CORNER_XY: 348206.20500 5394770.13100
NE_QUAD_CORNER_XY: 352805.77500 5394647.59900
SE_QUAD_CORNERY_XY: 352623.64700 5387700.72200
SW_QUAD_CORNER_XY: 348018.38200 5387823.28800
SECONDARY_NW_QUAD_XY: 348201.36000 5394551.20400
SECONDARY_NE_QUAD_XY: 352801.07700 5394428.66800
SECONDARY_SE_QUAD_XY: 352618.94900 5387481.79600
SECONDARY_SW_QUAD_XY: 348013.53700 5387604.36600
RMSE_XY: 0.60000
IMAGE_SOURCE: BLACK AND WHITE FILM
SOURCE_IMAGE_ID: NAPP 2607 013
SOURCE_IMAGE_DATE: 1990 7 12
SOURCE_DEM_DATE: 1994 12 12
AGENCY: WESTERN MAPPING CENTER (WMC)
PRODUCER: Science Applications International
PRODUCTION_SYSTEM: GIS/MAGIC
COMPRESSION: UNDEFINED
STANDARD_VERSION: 1996 12
METADATA_DATE: 1997 7 4
DATA_FILE_SIZE: 41890150
BYTE_COUNT: 5458
