FILENAME: O4811323.NES.46877.tif
QUADRANGLE_NAME: HORSE LAKE
QUADRANT: NE
WEST_LONGITUDE: -113 11 15.00000
EAST_LONGITUDE: -113 7 30.00000
NORTH_LATITUDE: 48 45 0.00000
SOUTH_LATITUDE: 48 41 15.00000
PRODUCTION_DATE: 1994 11 18
RASTER_ORDER: LEFT_RIGHT/TOP_BOTTOM
BAND_ORGANIZATION: SINGLE FILE
BAND_CONTENT: BLACK&WHITE
BAND_CONTENT: UNDEFINED
BAND_CONTENT: UNDEFINED
BITS_PER_PIXEL: 8
SAMPLES_AND_LINES: 5465 7681
HORIZONTAL_DATUM: NAD83
HORIZONTAL_COORDINATE_SYSTEM: UTM
COORDINATE_ZONE: 12
HORIZONTAL_UNITS: METERS
HORIZONTAL_RESOLUTION: 1.00000
SECONDARY_HORIZONTAL_DATUM: NAD27
XY_ORIGIN: 338637.00000 5402274.00000
SECONDARY_XY_ORIGIN: 338700.39100 5402055.64000
NATION: US
STATE: MT
NW_QUAD_CORNER_XY: 339206.54200 5401973.35100
NE_QUAD_CORNER_XY: 343800.36400 5401843.31000
SE_QUAD_CORNERY_XY: 343606.65800 5394896.43600
SW_QUAD_CORNER_XY: 339007.13400 5395026.51400
SECONDARY_NW_QUAD_XY: 339201.40300 5401754.42700
SECONDARY_NE_QUAD_XY: 343795.37200 5401624.38100
SECONDARY_SE_QUAD_XY: 343601.66600 5394677.51300
SECONDARY_SW_QUAD_XY: 339001.99600 5394807.59500
RMSE_XY: 0.90000
IMAGE_SOURCE: BLACK AND WHITE FILM
SOURCE_IMAGE_ID: NAPP 2607 059
SOURCE_IMAGE_DATE: 1990 7 12
SOURCE_DEM_DATE: 1994 11 18
AGENCY: WESTERN MAPPING CENTER (WMC)
PRODUCER: Science Applications International
PRODUCTION_SYSTEM: GIS/MAGIC
COMPRESSION: UNDEFINED
STANDARD_VERSION: 1996 12
METADATA_DATE: 1997 7 4
DATA_FILE_SIZE: 41982130
BYTE_COUNT: 5465
