FILENAME: O4811322.SES.47078.tif
QUADRANGLE_NAME: FOX CREEK
QUADRANT: SE
WEST_LONGITUDE: -113 18 45.00000
EAST_LONGITUDE: -113 15 0.00000
NORTH_LATITUDE: 48 41 15.00000
SOUTH_LATITUDE: 48 37 30.00000
PRODUCTION_DATE: 1994 11 18
RASTER_ORDER: LEFT_RIGHT/TOP_BOTTOM
BAND_ORGANIZATION: SINGLE FILE
BAND_CONTENT: BLACK&WHITE
BAND_CONTENT: UNDEFINED
BAND_CONTENT: UNDEFINED
BITS_PER_PIXEL: 8
SAMPLES_AND_LINES: 5482 7688
HORIZONTAL_DATUM: NAD83
HORIZONTAL_COORDINATE_SYSTEM: UTM
COORDINATE_ZONE: 12
HORIZONTAL_UNITS: METERS
HORIZONTAL_RESOLUTION: 1.00000
SECONDARY_HORIZONTAL_DATUM: NAD27
XY_ORIGIN: 329227.00000 5395598.00000
SECONDARY_XY_ORIGIN: 329290.35900 5395379.78900
NATION: US
STATE: MT
NW_QUAD_CORNER_XY: 329808.16200 5395297.99100
NE_QUAD_CORNER_XY: 334407.63600 5395160.36600
SE_QUAD_CORNERY_XY: 334202.72400 5388213.63100
SW_QUAD_CORNER_XY: 329597.55400 5388351.29500
SECONDARY_NW_QUAD_XY: 329802.73000 5395079.08100
SECONDARY_NE_QUAD_XY: 334402.35000 5394941.45100
SECONDARY_SE_QUAD_XY: 334197.43900 5387994.72200
SECONDARY_SW_QUAD_XY: 329592.12200 5388132.39000
RMSE_XY: 2.30000
IMAGE_SOURCE: BLACK AND WHITE FILM
SOURCE_IMAGE_ID: NAPP 2617 251
SOURCE_IMAGE_DATE: 1990 9 7
SOURCE_DEM_DATE: 1994 11 18
AGENCY: WESTERN MAPPING CENTER (WMC)
PRODUCER: Science Applications International
PRODUCTION_SYSTEM: GIS/MAGIC
COMPRESSION: UNDEFINED
STANDARD_VERSION: 1996 12
METADATA_DATE: 1997 7 4
DATA_FILE_SIZE: 42151098
BYTE_COUNT: 5482
