FILENAME: O4811321.NES.47266.tif
QUADRANGLE_NAME: SAINT MARY
QUADRANT: NE
WEST_LONGITUDE: -113 26 15.00000
EAST_LONGITUDE: -113 22 30.00000
NORTH_LATITUDE: 48 45 0.00000
SOUTH_LATITUDE: 48 41 15.00000
PRODUCTION_DATE: 1995 5 2
RASTER_ORDER: LEFT_RIGHT/TOP_BOTTOM
BAND_ORGANIZATION: SINGLE FILE
BAND_CONTENT: BLACK&WHITE
BAND_CONTENT: UNDEFINED
BAND_CONTENT: UNDEFINED
BITS_PER_PIXEL: 8
SAMPLES_AND_LINES: 5488 7696
HORIZONTAL_DATUM: NAD83
HORIZONTAL_COORDINATE_SYSTEM: UTM
COORDINATE_ZONE: 12
HORIZONTAL_UNITS: METERS
HORIZONTAL_RESOLUTION: 1.00000
SECONDARY_HORIZONTAL_DATUM: NAD27
XY_ORIGIN: 320239.00000 5402832.00000
SECONDARY_XY_ORIGIN: 320302.07000 5402613.36000
NATION: US
STATE: MT
NW_QUAD_CORNER_XY: 320831.51000 5402531.24000
NE_QUAD_CORNER_XY: 325425.23000 5402386.11000
SE_QUAD_CORNERY_XY: 325208.71000 5395439.39000
SW_QUAD_CORNER_XY: 320609.29000 5395584.56000
SECONDARY_NW_QUAD_XY: 320825.79000 5402312.34000
SECONDARY_NE_QUAD_XY: 325419.65000 5402167.20000
SECONDARY_SE_QUAD_XY: 325203.14000 5395220.48000
SECONDARY_SW_QUAD_XY: 320603.57000 5395365.66000
RMSE_XY: 2.00000
IMAGE_SOURCE: BLACK AND WHITE FILM
SOURCE_IMAGE_ID: NAPP 7617 030
SOURCE_IMAGE_DATE: 1990 9 7
SOURCE_IMAGE_ID: NAPP 7617 131
SOURCE_IMAGE_DATE: 1990 9 7
SOURCE_IMAGE_ID: NAPP 7617 929
SOURCE_IMAGE_DATE: 1990 9 7
SOURCE_DEM_DATE: 1995 5 2
AGENCY: WESTERN MAPPING CENTER (WMC)
PRODUCER: Science Applications International
PRODUCTION_SYSTEM: GIS/MAGIC
COMPRESSION: UNDEFINED
STANDARD_VERSION: 1996 12
METADATA_DATE: 1997 5 20
DATA_FILE_SIZE: 42241136
BYTE_COUNT: 5488
