FILENAME: O4811321.NWS.47267.tif
QUADRANGLE_NAME: SAINT MARY
QUADRANT: NW
WEST_LONGITUDE: -113 30 0.00000
EAST_LONGITUDE: -113 26 15.00000
NORTH_LATITUDE: 48 45 0.00000
SOUTH_LATITUDE: 48 41 15.00000
PRODUCTION_DATE: 1995 5 2
RASTER_ORDER: LEFT_RIGHT/TOP_BOTTOM
BAND_ORGANIZATION: SINGLE FILE
BAND_CONTENT: BLACK&WHITE
BAND_CONTENT: UNDEFINED
BAND_CONTENT: UNDEFINED
BITS_PER_PIXEL: 8
SAMPLES_AND_LINES: 5494 7700
HORIZONTAL_DATUM: NAD83
HORIZONTAL_COORDINATE_SYSTEM: UTM
COORDINATE_ZONE: 12
HORIZONTAL_UNITS: METERS
HORIZONTAL_RESOLUTION: 1.00000
SECONDARY_HORIZONTAL_DATUM: NAD27
XY_ORIGIN: 315639.00000 5402981.00000
SECONDARY_XY_ORIGIN: 315701.95000 5402762.27000
NATION: US
STATE: MT
NW_QUAD_CORNER_XY: 316237.82000 5402680.15000
NE_QUAD_CORNER_XY: 320831.51000 5402531.24000
SE_QUAD_CORNERY_XY: 320609.29000 5395584.56000
SW_QUAD_CORNER_XY: 316009.90000 5395733.51000
SECONDARY_NW_QUAD_XY: 316231.95000 5402461.25000
SECONDARY_NE_QUAD_XY: 320825.79000 5402312.34000
SECONDARY_SE_QUAD_XY: 320603.57000 5395365.66000
SECONDARY_SW_QUAD_XY: 316004.03000 5395514.62000
RMSE_XY: 2.40000
IMAGE_SOURCE: BLACK AND WHITE FILM
SOURCE_IMAGE_ID: NAPP 4614 77
SOURCE_IMAGE_DATE: 1991 8 22
SOURCE_IMAGE_ID: NAPP 4614 4614
SOURCE_IMAGE_DATE: 1991 8 22
SOURCE_IMAGE_ID: NAPP 4614 88
SOURCE_IMAGE_DATE: 1991 8 22
SOURCE_DEM_DATE: 1995 5 2
AGENCY: WESTERN MAPPING CENTER (WMC)
PRODUCER: Science Applications International
PRODUCTION_SYSTEM: GIS/MAGIC
COMPRESSION: UNDEFINED
STANDARD_VERSION: 1996 12
METADATA_DATE: 1997 5 20
DATA_FILE_SIZE: 42309294
BYTE_COUNT: 5494
