FILENAME: O4811321.SES.47268.tif
QUADRANGLE_NAME: SAINT MARY
QUADRANT: SE
WEST_LONGITUDE: -113 26 15.00000
EAST_LONGITUDE: -113 22 30.00000
NORTH_LATITUDE: 48 41 15.00000
SOUTH_LATITUDE: 48 37 30.00000
PRODUCTION_DATE: 1995 5 2
RASTER_ORDER: LEFT_RIGHT/TOP_BOTTOM
BAND_ORGANIZATION: SINGLE FILE
BAND_CONTENT: BLACK&WHITE
BAND_CONTENT: UNDEFINED
BAND_CONTENT: UNDEFINED
BITS_PER_PIXEL: 8
SAMPLES_AND_LINES: 5493 7696
HORIZONTAL_DATUM: NAD83
HORIZONTAL_COORDINATE_SYSTEM: UTM
COORDINATE_ZONE: 12
HORIZONTAL_UNITS: METERS
HORIZONTAL_RESOLUTION: 1.00000
SECONDARY_HORIZONTAL_DATUM: NAD27
XY_ORIGIN: 320017.00000 5395885.00000
SECONDARY_XY_ORIGIN: 320080.17000 5395666.66000
NATION: US
STATE: MT
NW_QUAD_CORNER_XY: 320609.29000 5395584.56000
NE_QUAD_CORNER_XY: 325208.71000 5395439.39000
SE_QUAD_CORNERY_XY: 324992.41000 5388492.73000
SW_QUAD_CORNER_XY: 320387.29000 5388637.95000
SECONDARY_NW_QUAD_XY: 320603.57000 5395365.66000
SECONDARY_NE_QUAD_XY: 325203.14000 5395220.48000
SECONDARY_SE_QUAD_XY: 324986.83000 5388273.83000
SECONDARY_SW_QUAD_XY: 320381.56000 5388419.05000
RMSE_XY: 4.20000
IMAGE_SOURCE: BLACK AND WHITE FILM
SOURCE_IMAGE_ID: NAPP 7617 232
SOURCE_IMAGE_DATE: 1990 9 7
SOURCE_IMAGE_ID: NAPP 7617 333
SOURCE_IMAGE_DATE: 1990 9 7
SOURCE_IMAGE_ID: NAPP 7617 131
SOURCE_IMAGE_DATE: 1990 9 7
SOURCE_DEM_DATE: 1995 5 2
AGENCY: WESTERN MAPPING CENTER (WMC)
PRODUCER: Science Applications International
PRODUCTION_SYSTEM: GIS/MAGIC
COMPRESSION: UNDEFINED
STANDARD_VERSION: 1996 12
METADATA_DATE: 1997 5 20
DATA_FILE_SIZE: 42279621
BYTE_COUNT: 5493
