FILENAME: Y:\DOQQ\replacements\geotiff\vol_197\011003\O4811319.NWS.47628.tif
QUADRANGLE_NAME: LOGAN PASS
QUADRANT: NW
WEST_LONGITUDE: -113 45 0.00000
EAST_LONGITUDE: -113 41 15.00000
NORTH_LATITUDE: 48 45 0.00000
SOUTH_LATITUDE: 48 41 15.00000
PRODUCTION_DATE: 1995 5 1
RASTER_ORDER: LEFT_RIGHT/TOP_BOTTOM
BAND_ORGANIZATION: SINGLE FILE
BAND_CONTENT: BLACK&WHITE
BAND_CONTENT: UNDEFINED
BAND_CONTENT: UNDEFINED
BITS_PER_PIXEL: 8
SAMPLES_AND_LINES: 5517 7714
HORIZONTAL_DATUM: NAD83
HORIZONTAL_COORDINATE_SYSTEM: UTM
COORDINATE_ZONE: 12
HORIZONTAL_UNITS: METERS
HORIZONTAL_RESOLUTION: 1.00000
SECONDARY_HORIZONTAL_DATUM: NAD27
XY_ORIGIN: 297241.00000 5403614.00000
SECONDARY_XY_ORIGIN: 297304.51000 5403395.24000
NATION: US
STATE: MT
NW_QUAD_CORNER_XY: 297863.35000 5403313.51000
NE_QUAD_CORNER_XY: 302456.93000 5403149.51000
SE_QUAD_CORNERY_XY: 302211.89000 5396203.00000
SW_QUAD_CORNER_XY: 297612.61000 5396367.05000
SECONDARY_NW_QUAD_XY: 297856.89000 5403094.63000
SECONDARY_NE_QUAD_XY: 302450.61000 5402930.62000
SECONDARY_SE_QUAD_XY: 302205.58000 5395984.12000
SECONDARY_SW_QUAD_XY: 297606.15000 5396148.18000
RMSE_XY: 3.80000
IMAGE_SOURCE: BLACK AND WHITE FILM
SOURCE_IMAGE_ID: NAPP 5615 66
SOURCE_IMAGE_DATE: 1991 8 26
SOURCE_IMAGE_ID: NAPP 5615 5615
SOURCE_IMAGE_DATE: 1991 8 26
SOURCE_IMAGE_ID: NAPP 5615 55
SOURCE_IMAGE_DATE: 1991 8 26
SOURCE_IMAGE_ID: NAPP 5615 5615
SOURCE_IMAGE_DATE: 1991 8 26
SOURCE_IMAGE_ID: NAPP 5615 77
SOURCE_IMAGE_DATE: 1991 8 26
SOURCE_DEM_DATE: 1995 5 1
AGENCY: WESTERN MAPPING CENTER (WMC)
PRODUCER: Science Applications International
PRODUCTION_SYSTEM: GIS/MAGIC
COMPRESSION: UNDEFINED
STANDARD_VERSION: 1996 12
METADATA_DATE: 1997 5 20
DATA_FILE_SIZE: 42563655
BYTE_COUNT: 5517
