FILENAME: O4811319.SWS.47630.tif
QUADRANGLE_NAME: LOGAN PASS
QUADRANT: NE
WEST_LONGITUDE: -113 41 15.00000
EAST_LONGITUDE: -113 37 30.00000
NORTH_LATITUDE: 48 45 0.00000
SOUTH_LATITUDE: 48 41 15.00000
PRODUCTION_DATE: 1998 10 01
RASTER_ORDER: LEFT_RIGHT/TOP_BOTTOM
BAND_ORGANIZATION: SINGLE FILE
BAND_CONTENT: BLACK&WHITE
BAND_CONTENT: UNDEFINED
BAND_CONTENT: UNDEFINED
BITS_PER_PIXEL: 8
SAMPLES_AND_LINES: 5550 7710
HORIZONTAL_DATUM: NAD83
HORIZONTAL_COORDINATE_SYSTEM: UTM
COORDINATE_ZONE: 12
HORIZONTAL_UNITS: METERS
HORIZONTAL_RESOLUTION: 1.00000
SECONDARY_HORIZONTAL_DATUM: NAD27
XY_ORIGIN: 301830.00000 5403450.00000
SECONDARY_XY_ORIGIN: 301893.37500 5403231.24900
NATION: US
STATE: MT
NW_QUAD_CORNER_XY: 302456.92600 5403149.51000
NE_QUAD_CORNER_XY: 307050.52800 5402989.28200
SE_QUAD_CORNERY_XY: 306811.19800 5396042.73300
SW_QUAD_CORNER_XY: 302211.89000 5396203.00600
SECONDARY_NW_QUAD_XY: 302450.61200 5402930.62300
SECONDARY_NE_QUAD_XY: 307044.36200 5402770.39000
SECONDARY_SE_QUAD_XY: 306805.03100 5395823.84600
SECONDARY_SW_QUAD_XY: 302205.57700 5395984.12400
RMSE_XY: 3.24600
IMAGE_SOURCE: BLACK AND WHITE FILM
SOURCE_IMAGE_ID: NAPP 8395 47
SOURCE_IMAGE_DATE: 1995 08 22
SOURCE_IMAGE_ID: NAPP 8394 97
SOURCE_IMAGE_DATE: 1995 08 22
SOURCE_IMAGE_ID: NAPP 8395 49
SOURCE_IMAGE_DATE: 1995 08 22
SOURCE_IMAGE_ID: NAPP 8395 46
SOURCE_IMAGE_DATE: 1995 08 22
SOURCE_IMAGE_ID: NAPP 8395 48
SOURCE_IMAGE_DATE: 1995 08 22
SOURCE_DEM_DATE: 1998 01 01
AGENCY: WESTERN MAPPING CENTER (WMC)
PRODUCER: ANALYTICAL SURVEYS INC.
PRODUCTION_SYSTEM: ORBIT OR_RECTIFY V.5.2
COMPRESSION: UNDEFINED
STANDARD_VERSION: 1996 12
METADATA_DATE: 1998 10 12
DATA_FILE_SIZE: 42796050
BYTE_COUNT: 5550
