FILENAME: O4811318.NES.47786.tif
QUADRANGLE_NAME: MOUNT CANNON
QUADRANT: NE
WEST_LONGITUDE: -113 48 45.00000
EAST_LONGITUDE: -113 45 0.00000
NORTH_LATITUDE: 48 45 0.00000
SOUTH_LATITUDE: 48 41 15.00000
PRODUCTION_DATE: 1995 5 3
RASTER_ORDER: LEFT_RIGHT/TOP_BOTTOM
BAND_ORGANIZATION: SINGLE FILE
BAND_CONTENT: BLACK&WHITE
BAND_CONTENT: UNDEFINED
BAND_CONTENT: UNDEFINED
BITS_PER_PIXEL: 8
SAMPLES_AND_LINES: 5523 7718
HORIZONTAL_DATUM: NAD83
HORIZONTAL_COORDINATE_SYSTEM: UTM
COORDINATE_ZONE: 12
HORIZONTAL_UNITS: METERS
HORIZONTAL_RESOLUTION: 1.00000
SECONDARY_HORIZONTAL_DATUM: NAD27
XY_ORIGIN: 292642.00000 5403782.00000
SECONDARY_XY_ORIGIN: 292705.52000 5403563.29000
NATION: US
STATE: MT
NW_QUAD_CORNER_XY: 293269.81000 5403481.29000
NE_QUAD_CORNER_XY: 297863.35000 5403313.51000
SE_QUAD_CORNERY_XY: 297612.61000 5396367.05000
SW_QUAD_CORNER_XY: 293013.37000 5396534.88000
SECONDARY_NW_QUAD_XY: 293263.21000 5403262.41000
SECONDARY_NE_QUAD_XY: 297856.89000 5403094.63000
SECONDARY_SE_QUAD_XY: 297606.15000 5396148.18000
SECONDARY_SW_QUAD_XY: 293006.76000 5396316.01000
RMSE_XY: 5.90000
IMAGE_SOURCE: BLACK AND WHITE FILM
SOURCE_IMAGE_ID: NAPP 5615 707
SOURCE_IMAGE_DATE: 1991 8 26
SOURCE_IMAGE_ID: NAPP 5615 5615
SOURCE_IMAGE_DATE: 1991 8 26
SOURCE_IMAGE_ID: NAPP 5615 808
SOURCE_IMAGE_DATE: 1991 8 26
SOURCE_DEM_DATE: 1995 5 3
AGENCY: WESTERN MAPPING CENTER (WMC)
PRODUCER: Science Applications International
PRODUCTION_SYSTEM: GIS/MAGIC
COMPRESSION: UNDEFINED
STANDARD_VERSION: 1996 12
METADATA_DATE: 1997 5 20
DATA_FILE_SIZE: 42632037
BYTE_COUNT: 5523
