FILENAME: O4811318.NWS.47787.tif
QUADRANGLE_NAME: MOUNT CANNON
QUADRANT: NW
WEST_LONGITUDE: -113 52 30.00000
EAST_LONGITUDE: -113 48 45.00000
NORTH_LATITUDE: 48 45 0.00000
SOUTH_LATITUDE: 48 41 15.00000
PRODUCTION_DATE: 1995 5 3
RASTER_ORDER: LEFT_RIGHT/TOP_BOTTOM
BAND_ORGANIZATION: SINGLE FILE
BAND_CONTENT: BLACK&WHITE
BAND_CONTENT: UNDEFINED
BAND_CONTENT: UNDEFINED
BITS_PER_PIXEL: 8
SAMPLES_AND_LINES: 5529 7721
HORIZONTAL_DATUM: NAD83
HORIZONTAL_COORDINATE_SYSTEM: UTM
COORDINATE_ZONE: 12
HORIZONTAL_UNITS: METERS
HORIZONTAL_RESOLUTION: 1.00000
SECONDARY_HORIZONTAL_DATUM: NAD27
XY_ORIGIN: 288042.00000 5403953.00000
SECONDARY_XY_ORIGIN: 288105.53000 5403734.32000
NATION: US
STATE: MT
NW_QUAD_CORNER_XY: 288676.31000 5403652.84000
NE_QUAD_CORNER_XY: 293269.81000 5403481.29000
SE_QUAD_CORNERY_XY: 293013.37000 5396534.88000
SW_QUAD_CORNER_XY: 288414.15000 5396706.48000
SECONDARY_NW_QUAD_XY: 288669.55000 5403433.97000
SECONDARY_NE_QUAD_XY: 293263.21000 5403262.41000
SECONDARY_SE_QUAD_XY: 293006.76000 5396316.01000
SECONDARY_SW_QUAD_XY: 288407.40000 5396487.61000
RMSE_XY: 8.10000
IMAGE_SOURCE: BLACK AND WHITE FILM
SOURCE_IMAGE_ID: NAPP 5615 626
SOURCE_IMAGE_DATE: 1991 8 26
SOURCE_IMAGE_ID: NAPP 5615 525
SOURCE_IMAGE_DATE: 1991 8 26
SOURCE_IMAGE_ID: NAPP 5615 727
SOURCE_IMAGE_DATE: 1991 8 26
SOURCE_DEM_DATE: 1995 5 3
AGENCY: WESTERN MAPPING CENTER (WMC)
PRODUCER: Science Applications International
PRODUCTION_SYSTEM: GIS/MAGIC
COMPRESSION: UNDEFINED
STANDARD_VERSION: 1996 12
METADATA_DATE: 1997 5 20
DATA_FILE_SIZE: 42694938
BYTE_COUNT: 5529
