FILENAME: O4811317.NWS.47926.tif
QUADRANGLE_NAME: CAMAS RIDGE EAST
QUADRANT: NW
WEST_LONGITUDE: -114 0 0.00000
EAST_LONGITUDE: -113 56 15.00000
NORTH_LATITUDE: 48 45 0.00000
SOUTH_LATITUDE: 48 41 15.00000
PRODUCTION_DATE: 1995 5 3
RASTER_ORDER: LEFT_RIGHT/TOP_BOTTOM
BAND_ORGANIZATION: SINGLE FILE
BAND_CONTENT: BLACK&WHITE
BAND_CONTENT: UNDEFINED
BAND_CONTENT: UNDEFINED
BITS_PER_PIXEL: 8
SAMPLES_AND_LINES: 5540 7729
HORIZONTAL_DATUM: NAD83
HORIZONTAL_COORDINATE_SYSTEM: UTM
COORDINATE_ZONE: 12
HORIZONTAL_UNITS: METERS
HORIZONTAL_RESOLUTION: 1.00000
SECONDARY_HORIZONTAL_DATUM: NAD27
XY_ORIGIN: 278844.00000 5404308.00000
SECONDARY_XY_ORIGIN: 278907.55000 5404089.40000
NATION: US
STATE: MT
NW_QUAD_CORNER_XY: 279489.39000 5404007.27000
NE_QUAD_CORNER_XY: 284082.83000 5403828.17000
SE_QUAD_CORNERY_XY: 283814.97000 5396881.86000
SW_QUAD_CORNER_XY: 279215.82000 5397061.01000
SECONDARY_NW_QUAD_XY: 279482.34000 5403788.41000
SECONDARY_NE_QUAD_XY: 284075.93000 5403609.30000
SECONDARY_SE_QUAD_XY: 283808.07000 5396663.00000
SECONDARY_SW_QUAD_XY: 279208.77000 5396842.16000
RMSE_XY: 8.30000
IMAGE_SOURCE: BLACK AND WHITE FILM
SOURCE_IMAGE_ID: NAPP 5615 656
SOURCE_IMAGE_DATE: 1991 8 26
SOURCE_IMAGE_ID: NAPP 5615 5615
SOURCE_IMAGE_DATE: 1991 8 26
SOURCE_IMAGE_ID: NAPP 5615 757
SOURCE_IMAGE_DATE: 1991 8 26
SOURCE_DEM_DATE: 1995 5 3
AGENCY: WESTERN MAPPING CENTER (WMC)
PRODUCER: Science Applications International
PRODUCTION_SYSTEM: GIS/MAGIC
COMPRESSION: UNDEFINED
STANDARD_VERSION: 1996 12
METADATA_DATE: 1997 5 20
DATA_FILE_SIZE: 42824200
BYTE_COUNT: 5540
