FILENAME: O4811317.SES.47927.tif
QUADRANGLE_NAME: CAMAS RIDGE EAST
QUADRANT: SE
WEST_LONGITUDE: -113 56 15.00000
EAST_LONGITUDE: -113 52 30.00000
NORTH_LATITUDE: 48 41 15.00000
SOUTH_LATITUDE: 48 37 30.00000
PRODUCTION_DATE: 1995 5 3
RASTER_ORDER: LEFT_RIGHT/TOP_BOTTOM
BAND_ORGANIZATION: SINGLE FILE
BAND_CONTENT: BLACK&WHITE
BAND_CONTENT: UNDEFINED
BAND_CONTENT: UNDEFINED
BITS_PER_PIXEL: 8
SAMPLES_AND_LINES: 5541 7725
HORIZONTAL_DATUM: NAD83
HORIZONTAL_COORDINATE_SYSTEM: UTM
COORDINATE_ZONE: 12
HORIZONTAL_UNITS: METERS
HORIZONTAL_RESOLUTION: 1.00000
SECONDARY_HORIZONTAL_DATUM: NAD27
XY_ORIGIN: 283175.00000 5397182.00000
SECONDARY_XY_ORIGIN: 283238.51000 5396963.55000
NATION: US
STATE: MT
NW_QUAD_CORNER_XY: 283814.97000 5396881.86000
NE_QUAD_CORNER_XY: 288414.15000 5396706.48000
SE_QUAD_CORNERY_XY: 288152.25000 5389760.18000
SW_QUAD_CORNER_XY: 283547.37000 5389935.60000
SECONDARY_NW_QUAD_XY: 283808.07000 5396663.00000
SECONDARY_NE_QUAD_XY: 288407.40000 5396487.61000
SECONDARY_SE_QUAD_XY: 288145.50000 5389541.32000
SECONDARY_SW_QUAD_XY: 283540.47000 5389716.75000
RMSE_XY: 5.80000
IMAGE_SOURCE: BLACK AND WHITE FILM
SOURCE_IMAGE_ID: NAPP 5615 050
SOURCE_IMAGE_DATE: 1991 8 26
SOURCE_IMAGE_ID: NAPP 5615 5615
SOURCE_IMAGE_DATE: 1991 8 26
SOURCE_IMAGE_ID: NAPP 5615 949
SOURCE_IMAGE_DATE: 1991 8 26
SOURCE_DEM_DATE: 1995 5 3
AGENCY: WESTERN MAPPING CENTER (WMC)
PRODUCER: Science Applications International
PRODUCTION_SYSTEM: GIS/MAGIC
COMPRESSION: UNDEFINED
STANDARD_VERSION: 1996 12
METADATA_DATE: 1997 5 20
DATA_FILE_SIZE: 42809766
BYTE_COUNT: 5541
