FILENAME: O4811317.SWS.47928.tif
QUADRANGLE_NAME: CAMAS RIDGE EAST
QUADRANT: SW
WEST_LONGITUDE: -114 0 0.00000
EAST_LONGITUDE: -113 56 15.00000
NORTH_LATITUDE: 48 41 15.00000
SOUTH_LATITUDE: 48 37 30.00000
PRODUCTION_DATE: 1994 11 4
RASTER_ORDER: LEFT_RIGHT/TOP_BOTTOM
BAND_ORGANIZATION: SINGLE FILE
BAND_CONTENT: BLACK&WHITE
BAND_CONTENT: UNDEFINED
BAND_CONTENT: UNDEFINED
BITS_PER_PIXEL: 8
SAMPLES_AND_LINES: 5546 7730
HORIZONTAL_DATUM: NAD83
HORIZONTAL_COORDINATE_SYSTEM: UTM
COORDINATE_ZONE: 12
HORIZONTAL_UNITS: METERS
HORIZONTAL_RESOLUTION: 1.00000
SECONDARY_HORIZONTAL_DATUM: NAD27
XY_ORIGIN: 278570.00000 5397362.00000
SECONDARY_XY_ORIGIN: 278633.50800 5397143.57600
NATION: US
STATE: MT
NW_QUAD_CORNER_XY: 279215.82000 5397061.01300
NE_QUAD_CORNER_XY: 283814.97000 5396881.85800
SE_QUAD_CORNERY_XY: 283547.36800 5389935.60300
SW_QUAD_CORNER_XY: 278942.51600 5390114.80800
SECONDARY_NW_QUAD_XY: 279208.77300 5396842.15900
SECONDARY_NE_QUAD_XY: 283808.06900 5396662.99800
SECONDARY_SE_QUAD_XY: 283540.46700 5389716.74900
SECONDARY_SW_QUAD_XY: 278935.46900 5389895.95900
RMSE_XY: 2.70000
IMAGE_SOURCE: BLACK AND WHITE FILM
SOURCE_IMAGE_ID: PAPP 5615 353
SOURCE_IMAGE_DATE: 1991 8 26
SOURCE_DEM_DATE: 1994 11 4
AGENCY: WESTERN MAPPING CENTER (WMC)
PRODUCER: Science Applications International
PRODUCTION_SYSTEM: GIS/MAGIC
COMPRESSION: UNDEFINED
STANDARD_VERSION: 1996 12
METADATA_DATE: 1997 5 19
DATA_FILE_SIZE: 42876126
BYTE_COUNT: 5546
