FILENAME: O4811316.NES.46702.tif
QUADRANGLE_NAME: HOODOO HILL
QUADRANT: NE
WEST_LONGITUDE: -113 3 45.00000
EAST_LONGITUDE: -113 0 0.00000
NORTH_LATITUDE: 48 52 30.00000
SOUTH_LATITUDE: 48 48 45.00000
PRODUCTION_DATE: 1994 12 12
RASTER_ORDER: LEFT_RIGHT/TOP_BOTTOM
BAND_ORGANIZATION: SINGLE FILE
BAND_CONTENT: BLACK&WHITE
BAND_CONTENT: UNDEFINED
BAND_CONTENT: UNDEFINED
BITS_PER_PIXEL: 8
SAMPLES_AND_LINES: 5442 7673
HORIZONTAL_DATUM: NAD83
HORIZONTAL_COORDINATE_SYSTEM: UTM
COORDINATE_ZONE: 12
HORIZONTAL_UNITS: METERS
HORIZONTAL_RESOLUTION: 1.00000
SECONDARY_HORIZONTAL_DATUM: NAD27
XY_ORIGIN: 348213.00000 5415912.00000
SECONDARY_XY_ORIGIN: 348276.05500 5415693.16500
NATION: US
STATE: MT
NW_QUAD_CORNER_XY: 348770.76400 5415611.05700
NE_QUAD_CORNER_XY: 353353.21500 5415488.63000
SE_QUAD_CORNERY_XY: 353170.55900 5408541.55300
SW_QUAD_CORNER_XY: 348582.39600 5408664.01600
SECONDARY_NW_QUAD_XY: 348765.91900 5415392.11700
SECONDARY_NE_QUAD_XY: 353348.51600 5415269.68600
SECONDARY_SE_QUAD_XY: 353165.86000 5408322.61300
SECONDARY_SW_QUAD_XY: 348577.55100 5408445.07900
RMSE_XY: 0.50000
IMAGE_SOURCE: BLACK AND WHITE FILM
SOURCE_IMAGE_ID: NAPP 2607 007
SOURCE_IMAGE_DATE: 1990 7 12
SOURCE_DEM_DATE: 1994 12 12
AGENCY: WESTERN MAPPING CENTER (WMC)
PRODUCER: Science Applications International
PRODUCTION_SYSTEM: GIS/MAGIC
COMPRESSION: UNDEFINED
STANDARD_VERSION: 1996 12
METADATA_DATE: 1997 7 4
DATA_FILE_SIZE: 41761908
BYTE_COUNT: 5442
