FILENAME: O4811316.SWS.46705.tif
QUADRANGLE_NAME: HOODOO HILL
QUADRANT: SW
WEST_LONGITUDE: -113 7 30.00000
EAST_LONGITUDE: -113 3 45.00000
NORTH_LATITUDE: 48 48 45.00000
SOUTH_LATITUDE: 48 45 0.00000
PRODUCTION_DATE: 1994 12 12
RASTER_ORDER: LEFT_RIGHT/TOP_BOTTOM
BAND_ORGANIZATION: SINGLE FILE
BAND_CONTENT: BLACK&WHITE
BAND_CONTENT: UNDEFINED
BAND_CONTENT: UNDEFINED
BITS_PER_PIXEL: 8
SAMPLES_AND_LINES: 5453 7677
HORIZONTAL_DATUM: NAD83
HORIZONTAL_COORDINATE_SYSTEM: UTM
COORDINATE_ZONE: 12
HORIZONTAL_UNITS: METERS
HORIZONTAL_RESOLUTION: 1.00000
SECONDARY_HORIZONTAL_DATUM: NAD27
XY_ORIGIN: 343431.00000 5409091.00000
SECONDARY_XY_ORIGIN: 343494.19800 5408872.39300
NATION: US
STATE: MT
NW_QUAD_CORNER_XY: 343994.25700 5408790.24900
NE_QUAD_CORNER_XY: 348582.39600 5408664.01600
SE_QUAD_CORNERY_XY: 348394.20900 5401717.04000
SW_QUAD_CORNER_XY: 343800.36400 5401843.31000
SECONDARY_NW_QUAD_XY: 343989.26500 5408571.31600
SECONDARY_NE_QUAD_XY: 348577.55100 5408445.07900
SECONDARY_SE_QUAD_XY: 348389.36400 5401498.10800
SECONDARY_SW_QUAD_XY: 343795.37200 5401624.38100
RMSE_XY: 0.60000
IMAGE_SOURCE: BLACK AND WHITE FILM
SOURCE_IMAGE_ID: NAPP 2607 040
SOURCE_IMAGE_DATE: 1990 7 12
SOURCE_DEM_DATE: 1994 12 12
AGENCY: WESTERN MAPPING CENTER (WMC)
PRODUCER: Science Applications International
PRODUCTION_SYSTEM: GIS/MAGIC
COMPRESSION: UNDEFINED
STANDARD_VERSION: 1996 12
METADATA_DATE: 1997 7 4
DATA_FILE_SIZE: 41868134
BYTE_COUNT: 5453
