FILENAME: O4811314.NWS.47073.tif
QUADRANGLE_NAME: DUCK LAKE
QUADRANT: NW
WEST_LONGITUDE: -113 22 30.00000
EAST_LONGITUDE: -113 18 45.00000
NORTH_LATITUDE: 48 52 30.00000
SOUTH_LATITUDE: 48 48 45.00000
PRODUCTION_DATE: 1994 11 18
RASTER_ORDER: LEFT_RIGHT/TOP_BOTTOM
BAND_ORGANIZATION: SINGLE FILE
BAND_CONTENT: BLACK&WHITE
BAND_CONTENT: UNDEFINED
BAND_CONTENT: UNDEFINED
BITS_PER_PIXEL: 8
SAMPLES_AND_LINES: 5471 7691
HORIZONTAL_DATUM: NAD83
HORIZONTAL_COORDINATE_SYSTEM: UTM
COORDINATE_ZONE: 12
HORIZONTAL_UNITS: METERS
HORIZONTAL_RESOLUTION: 1.00000
SECONDARY_HORIZONTAL_DATUM: NAD27
XY_ORIGIN: 325272.00000 5416580.00000
SECONDARY_XY_ORIGIN: 325334.64000 5416360.80900
NATION: US
STATE: MT
NW_QUAD_CORNER_XY: 325858.88700 5416279.73900
NE_QUAD_CORNER_XY: 330441.21000 5416138.46200
SE_QUAD_CORNERY_XY: 330229.99000 5409191.57500
SW_QUAD_CORNER_XY: 325641.95400 5409332.89300
SECONDARY_NW_QUAD_XY: 325853.30700 5416060.82000
SECONDARY_NE_QUAD_XY: 330435.77700 5415919.53900
SECONDARY_SE_QUAD_XY: 330224.55800 5408972.65500
SECONDARY_SW_QUAD_XY: 325636.37400 5409113.97800
RMSE_XY: 3.80000
IMAGE_SOURCE: BLACK AND WHITE FILM
SOURCE_IMAGE_ID: NAPP 2615 049
SOURCE_IMAGE_DATE: 1990 9 3
SOURCE_DEM_DATE: 1994 11 18
AGENCY: WESTERN MAPPING CENTER (WMC)
PRODUCER: Science Applications International
PRODUCTION_SYSTEM: GIS/MAGIC
COMPRESSION: UNDEFINED
STANDARD_VERSION: 1996 12
METADATA_DATE: 1997 7 4
DATA_FILE_SIZE: 42082932
BYTE_COUNT: 5471
