FILENAME: O4811313.NES.47262.tif
QUADRANGLE_NAME: BABB
QUADRANT: NE
WEST_LONGITUDE: -113 26 15.00000
EAST_LONGITUDE: -113 22 30.00000
NORTH_LATITUDE: 48 52 30.00000
SOUTH_LATITUDE: 48 48 45.00000
PRODUCTION_DATE: 1994 11 18
RASTER_ORDER: LEFT_RIGHT/TOP_BOTTOM
BAND_ORGANIZATION: SINGLE FILE
BAND_CONTENT: BLACK&WHITE
BAND_CONTENT: UNDEFINED
BAND_CONTENT: UNDEFINED
BITS_PER_PIXEL: 8
SAMPLES_AND_LINES: 5476 7696
HORIZONTAL_DATUM: NAD83
HORIZONTAL_COORDINATE_SYSTEM: UTM
COORDINATE_ZONE: 12
HORIZONTAL_UNITS: METERS
HORIZONTAL_RESOLUTION: 1.00000
SECONDARY_HORIZONTAL_DATUM: NAD27
XY_ORIGIN: 320684.00000 5416726.00000
SECONDARY_XY_ORIGIN: 320746.40600 5416506.66700
NATION: US
STATE: MT
NW_QUAD_CORNER_XY: 321276.59200 5416424.78700
NE_QUAD_CORNER_XY: 325858.88700 5416279.73900
SE_QUAD_CORNERY_XY: 325641.95400 5409332.89300
SW_QUAD_CORNER_XY: 321053.94500 5409477.98400
SECONDARY_NW_QUAD_XY: 321270.86600 5416205.87300
SECONDARY_NE_QUAD_XY: 325853.30700 5416060.82000
SECONDARY_SE_QUAD_XY: 325636.37400 5409113.97800
SECONDARY_SW_QUAD_XY: 321048.21900 5409259.07300
RMSE_XY: 3.60000
IMAGE_SOURCE: BLACK AND WHITE FILM
SOURCE_IMAGE_ID: PAPP 7617 626
SOURCE_IMAGE_DATE: 1990 9 7
SOURCE_DEM_DATE: 1994 11 18
AGENCY: WESTERN MAPPING CENTER (WMC)
PRODUCER: Science Applications International
PRODUCTION_SYSTEM: GIS/MAGIC
COMPRESSION: UNDEFINED
STANDARD_VERSION: 1996 12
METADATA_DATE: 1997 5 19
DATA_FILE_SIZE: 42148772
BYTE_COUNT: 5476
