FILENAME: O4811313.SWS.47265.tif
QUADRANGLE_NAME: BABB
QUADRANT: SW
WEST_LONGITUDE: -113 30 0.00000
EAST_LONGITUDE: -113 26 15.00000
NORTH_LATITUDE: 48 48 45.00000
SOUTH_LATITUDE: 48 45 0.00000
PRODUCTION_DATE: 1994 11 18
RASTER_ORDER: LEFT_RIGHT/TOP_BOTTOM
BAND_ORGANIZATION: SINGLE FILE
BAND_CONTENT: BLACK&WHITE
BAND_CONTENT: UNDEFINED
BAND_CONTENT: UNDEFINED
BITS_PER_PIXEL: 8
SAMPLES_AND_LINES: 5488 7700
HORIZONTAL_DATUM: NAD83
HORIZONTAL_COORDINATE_SYSTEM: UTM
COORDINATE_ZONE: 12
HORIZONTAL_UNITS: METERS
HORIZONTAL_RESOLUTION: 1.00000
SECONDARY_HORIZONTAL_DATUM: NAD27
XY_ORIGIN: 315867.00000 5409928.00000
SECONDARY_XY_ORIGIN: 315929.55700 5409708.89800
NATION: US
STATE: MT
NW_QUAD_CORNER_XY: 316465.96400 5409626.84700
NE_QUAD_CORNER_XY: 321053.94500 5409477.98400
SE_QUAD_CORNERY_XY: 320831.51200 5402531.24300
SW_QUAD_CORNER_XY: 316237.82200 5402680.14900
SECONDARY_NW_QUAD_XY: 316460.09100 5409407.94100
SECONDARY_NE_QUAD_XY: 321048.21900 5409259.07300
SECONDARY_SE_QUAD_XY: 320825.78600 5402312.33700
SECONDARY_SW_QUAD_XY: 316231.94900 5402461.24700
RMSE_XY: 3.40000
IMAGE_SOURCE: BLACK AND WHITE FILM
SOURCE_IMAGE_ID: PAPP 7617 111
SOURCE_IMAGE_DATE: 1990 9 7
SOURCE_DEM_DATE: 1994 11 18
AGENCY: WESTERN MAPPING CENTER (WMC)
PRODUCER: Science Applications International
PRODUCTION_SYSTEM: GIS/MAGIC
COMPRESSION: UNDEFINED
STANDARD_VERSION: 1996 12
METADATA_DATE: 1997 5 19
DATA_FILE_SIZE: 42263088
BYTE_COUNT: 5488
