FILENAME: O4811312.SES.47445.tif
QUADRANGLE_NAME: LAKE SHERBURNE
QUADRANT: SE
WEST_LONGITUDE: -113 33 45.00000
EAST_LONGITUDE: -113 30 0.00000
NORTH_LATITUDE: 48 48 45.00000
SOUTH_LATITUDE: 48 45 0.00000
PRODUCTION_DATE: 1995 5 3
RASTER_ORDER: LEFT_RIGHT/TOP_BOTTOM
BAND_ORGANIZATION: SINGLE FILE
BAND_CONTENT: BLACK&WHITE
BAND_CONTENT: UNDEFINED
BAND_CONTENT: UNDEFINED
BITS_PER_PIXEL: 8
SAMPLES_AND_LINES: 5493 7703
HORIZONTAL_DATUM: NAD83
HORIZONTAL_COORDINATE_SYSTEM: UTM
COORDINATE_ZONE: 12
HORIZONTAL_UNITS: METERS
HORIZONTAL_RESOLUTION: 1.00000
SECONDARY_HORIZONTAL_DATUM: NAD27
XY_ORIGIN: 311274.00000 5410080.00000
SECONDARY_XY_ORIGIN: 311336.75000 5409860.93000
NATION: US
STATE: MT
NW_QUAD_CORNER_XY: 311878.01000 5409779.48000
NE_QUAD_CORNER_XY: 316465.96000 5409626.85000
SE_QUAD_CORNERY_XY: 316237.82000 5402680.15000
SW_QUAD_CORNER_XY: 311644.16000 5402832.83000
SECONDARY_NW_QUAD_XY: 311871.99000 5409560.58000
SECONDARY_NE_QUAD_XY: 316460.09000 5409407.94000
SECONDARY_SE_QUAD_XY: 316231.95000 5402461.25000
SECONDARY_SW_QUAD_XY: 311638.14000 5402613.93000
RMSE_XY: 7.90000
IMAGE_SOURCE: BLACK AND WHITE FILM
SOURCE_IMAGE_ID: NAPP 5615 66
SOURCE_IMAGE_DATE: 1991 8 26
SOURCE_IMAGE_ID: NAPP 5615 5615
SOURCE_IMAGE_DATE: 1991 8 26
SOURCE_IMAGE_ID: NAPP 5615 77
SOURCE_IMAGE_DATE: 1991 8 26
SOURCE_DEM_DATE: 1995 5 3
AGENCY: WESTERN MAPPING CENTER (WMC)
PRODUCER: Science Applications International
PRODUCTION_SYSTEM: GIS/MAGIC
COMPRESSION: UNDEFINED
STANDARD_VERSION: 1996 12
METADATA_DATE: 1997 5 20
DATA_FILE_SIZE: 42318072
BYTE_COUNT: 5493
