FILENAME: O4811311.SES.47625.tif
QUADRANGLE_NAME: MANY GLACIER
QUADRANT: SE
WEST_LONGITUDE: -113 41 15.00000
EAST_LONGITUDE: -113 37 30.00000
NORTH_LATITUDE: 48 48 45.00000
SOUTH_LATITUDE: 48 45 0.00000
PRODUCTION_DATE: 1995 5 4
RASTER_ORDER: LEFT_RIGHT/TOP_BOTTOM
BAND_ORGANIZATION: SINGLE FILE
BAND_CONTENT: BLACK&WHITE
BAND_CONTENT: UNDEFINED
BAND_CONTENT: UNDEFINED
BITS_PER_PIXEL: 8
SAMPLES_AND_LINES: 5506 7710
HORIZONTAL_DATUM: NAD83
HORIZONTAL_COORDINATE_SYSTEM: UTM
COORDINATE_ZONE: 12
HORIZONTAL_UNITS: METERS
HORIZONTAL_RESOLUTION: 1.00000
SECONDARY_HORIZONTAL_DATUM: NAD27
XY_ORIGIN: 302086.00000 5410397.00000
SECONDARY_XY_ORIGIN: 302149.12000 5410178.00000
NATION: US
STATE: MT
NW_QUAD_CORNER_XY: 302702.20000 5410096.07000
NE_QUAD_CORNER_XY: 307290.09000 5409935.89000
SE_QUAD_CORNERY_XY: 307050.53000 5402989.28000
SW_QUAD_CORNER_XY: 302456.93000 5403149.51000
SECONDARY_NW_QUAD_XY: 302695.88000 5409877.18000
SECONDARY_NE_QUAD_XY: 307283.92000 5409716.99000
SECONDARY_SE_QUAD_XY: 307044.36000 5402770.39000
SECONDARY_SW_QUAD_XY: 302450.61000 5402930.62000
RMSE_XY: 3.70000
IMAGE_SOURCE: BLACK AND WHITE FILM
SOURCE_IMAGE_ID: NAPP 5615 55
SOURCE_IMAGE_DATE: 1991 8 26
SOURCE_IMAGE_ID: NAPP 5615 5615
SOURCE_IMAGE_DATE: 1991 8 26
SOURCE_IMAGE_ID: NAPP 5615 66
SOURCE_IMAGE_DATE: 1991 8 26
SOURCE_IMAGE_ID: NAPP 5615 5615
SOURCE_IMAGE_DATE: 1991 8 26
SOURCE_IMAGE_ID: NAPP 5615 44
SOURCE_IMAGE_DATE: 1991 8 26
SOURCE_DEM_DATE: 1995 5 4
AGENCY: WESTERN MAPPING CENTER (WMC)
PRODUCER: Science Applications International
PRODUCTION_SYSTEM: GIS/MAGIC
COMPRESSION: UNDEFINED
STANDARD_VERSION: 1996 12
METADATA_DATE: 1997 5 20
DATA_FILE_SIZE: 42456766
BYTE_COUNT: 5506
