FILENAME: O4811310.SES.47784.tif
QUADRANGLE_NAME: AHERN PASS
QUADRANT: SE
WEST_LONGITUDE: -113 48 45.00000
EAST_LONGITUDE: -113 45 0.00000
NORTH_LATITUDE: 48 48 45.00000
SOUTH_LATITUDE: 48 45 0.00000
PRODUCTION_DATE: 1995 5 4
RASTER_ORDER: LEFT_RIGHT/TOP_BOTTOM
BAND_ORGANIZATION: SINGLE FILE
BAND_CONTENT: BLACK&WHITE
BAND_CONTENT: UNDEFINED
BAND_CONTENT: UNDEFINED
BITS_PER_PIXEL: 8
SAMPLES_AND_LINES: 5518 7717
HORIZONTAL_DATUM: NAD83
HORIZONTAL_COORDINATE_SYSTEM: UTM
COORDINATE_ZONE: 12
HORIZONTAL_UNITS: METERS
HORIZONTAL_RESOLUTION: 1.00000
SECONDARY_HORIZONTAL_DATUM: NAD27
XY_ORIGIN: 292898.00000 5410728.00000
SECONDARY_XY_ORIGIN: 292961.34000 5410509.10000
NATION: US
STATE: MT
NW_QUAD_CORNER_XY: 293526.51000 5410427.76000
NE_QUAD_CORNER_XY: 298114.34000 5410260.03000
SE_QUAD_CORNERY_XY: 297863.35000 5403313.51000
SW_QUAD_CORNER_XY: 293269.81000 5403481.29000
SECONDARY_NW_QUAD_XY: 293519.90000 5410208.88000
SECONDARY_NE_QUAD_XY: 298107.88000 5410041.14000
SECONDARY_SE_QUAD_XY: 297856.89000 5403094.63000
SECONDARY_SW_QUAD_XY: 293263.21000 5403262.41000
RMSE_XY: 2.30000
IMAGE_SOURCE: BLACK AND WHITE FILM
SOURCE_IMAGE_ID: NAPP 5615 505
SOURCE_IMAGE_DATE: 1991 8 26
SOURCE_IMAGE_ID: NAPP 5615 606
SOURCE_IMAGE_DATE: 1991 8 26
SOURCE_IMAGE_ID: NAPP 5615 404
SOURCE_IMAGE_DATE: 1991 8 26
SOURCE_DEM_DATE: 1995 5 4
AGENCY: WESTERN MAPPING CENTER (WMC)
PRODUCER: Science Applications International
PRODUCTION_SYSTEM: GIS/MAGIC
COMPRESSION: UNDEFINED
STANDARD_VERSION: 1996 12
METADATA_DATE: 1997 5 20
DATA_FILE_SIZE: 42587924
BYTE_COUNT: 5518
