FILENAME: O4811307.NES.46869.tif
QUADRANGLE_NAME: HALL COULEE
QUADRANT: NE
WEST_LONGITUDE: -113 11 15.00000
EAST_LONGITUDE: -113 7 30.00000
NORTH_LATITUDE: 49 0 0.00000
SOUTH_LATITUDE: 48 56 15.00000
PRODUCTION_DATE: 1994 11 18
RASTER_ORDER: LEFT_RIGHT/TOP_BOTTOM
BAND_ORGANIZATION: SINGLE FILE
BAND_CONTENT: BLACK&WHITE
BAND_CONTENT: UNDEFINED
BAND_CONTENT: UNDEFINED
BITS_PER_PIXEL: 8
SAMPLES_AND_LINES: 5443 7680
HORIZONTAL_DATUM: NAD83
HORIZONTAL_COORDINATE_SYSTEM: UTM
COORDINATE_ZONE: 12
HORIZONTAL_UNITS: METERS
HORIZONTAL_RESOLUTION: 1.00000
SECONDARY_HORIZONTAL_DATUM: NAD27
XY_ORIGIN: 339436.00000 5430062.00000
SECONDARY_XY_ORIGIN: 339498.81700 5429842.60800
NATION: US
NATION: CA
STATE: MT
NW_QUAD_CORNER_XY: 340006.09800 5429761.34600
NE_QUAD_CORNER_XY: 344577.05800 5429631.45800
SE_QUAD_CORNERY_XY: 344382.60400 5422684.32300
SW_QUAD_CORNER_XY: 339805.92000 5422814.25000
SECONDARY_NW_QUAD_XY: 340000.95900 5429542.40900
SECONDARY_NE_QUAD_XY: 344572.06500 5429412.51700
SECONDARY_SE_QUAD_XY: 344377.61200 5422465.38400
SECONDARY_SW_QUAD_XY: 339800.78200 5422595.31600
RMSE_XY: 0.70000
IMAGE_SOURCE: BLACK AND WHITE FILM
SOURCE_IMAGE_ID: NAPP 2607 051
SOURCE_IMAGE_DATE: 1990 7 12
SOURCE_DEM_DATE: 1994 11 18
AGENCY: WESTERN MAPPING CENTER (WMC)
PRODUCER: Science Applications International
PRODUCTION_SYSTEM: GIS/MAGIC
COMPRESSION: UNDEFINED
STANDARD_VERSION: 1996 12
METADATA_DATE: 1997 7 4
DATA_FILE_SIZE: 41807683
BYTE_COUNT: 5443
