FILENAME: O4811307.SES.46871.tif
QUADRANGLE_NAME: HALL COULEE
QUADRANT: SE
WEST_LONGITUDE: -113 11 15.00000
EAST_LONGITUDE: -113 7 30.00000
NORTH_LATITUDE: 48 56 15.00000
SOUTH_LATITUDE: 48 52 30.00000
PRODUCTION_DATE: 1994 11 18
RASTER_ORDER: LEFT_RIGHT/TOP_BOTTOM
BAND_ORGANIZATION: SINGLE FILE
BAND_CONTENT: BLACK&WHITE
BAND_CONTENT: UNDEFINED
BAND_CONTENT: UNDEFINED
BITS_PER_PIXEL: 8
SAMPLES_AND_LINES: 5448 7680
HORIZONTAL_DATUM: NAD83
HORIZONTAL_COORDINATE_SYSTEM: UTM
COORDINATE_ZONE: 12
HORIZONTAL_UNITS: METERS
HORIZONTAL_RESOLUTION: 1.00000
SECONDARY_HORIZONTAL_DATUM: NAD27
XY_ORIGIN: 339236.00000 5423115.00000
SECONDARY_XY_ORIGIN: 339298.96000 5422895.86500
NATION: US
STATE: MT
NW_QUAD_CORNER_XY: 339805.92000 5422814.25000
NE_QUAD_CORNER_XY: 344382.60400 5422684.32300
SE_QUAD_CORNERY_XY: 344188.33700 5415737.25300
SW_QUAD_CORNER_XY: 339605.93500 5415867.21900
SECONDARY_NW_QUAD_XY: 339800.78200 5422595.31600
SECONDARY_NE_QUAD_XY: 344377.61200 5422465.38400
SECONDARY_SE_QUAD_XY: 344183.34500 5415518.31700
SECONDARY_SW_QUAD_XY: 339600.79600 5415648.28700
RMSE_XY: 0.60000
IMAGE_SOURCE: BLACK AND WHITE FILM
SOURCE_IMAGE_ID: NAPP 2607 053
SOURCE_IMAGE_DATE: 1990 7 12
SOURCE_DEM_DATE: 1994 11 18
AGENCY: WESTERN MAPPING CENTER (WMC)
PRODUCER: Science Applications International
PRODUCTION_SYSTEM: GIS/MAGIC
COMPRESSION: UNDEFINED
STANDARD_VERSION: 1996 12
METADATA_DATE: 1997 7 4
DATA_FILE_SIZE: 41846088
BYTE_COUNT: 5448
