FILENAME: O4811307.SWS.46872.tif
QUADRANGLE_NAME: HALL COULEE
QUADRANT: SW
WEST_LONGITUDE: -113 15 0.00000
EAST_LONGITUDE: -113 11 15.00000
NORTH_LATITUDE: 48 56 15.00000
SOUTH_LATITUDE: 48 52 30.00000
PRODUCTION_DATE: 1994 11 18
RASTER_ORDER: LEFT_RIGHT/TOP_BOTTOM
BAND_ORGANIZATION: SINGLE FILE
BAND_CONTENT: BLACK&WHITE
BAND_CONTENT: UNDEFINED
BAND_CONTENT: UNDEFINED
BITS_PER_PIXEL: 8
SAMPLES_AND_LINES: 5453 7684
HORIZONTAL_DATUM: NAD83
HORIZONTAL_COORDINATE_SYSTEM: UTM
COORDINATE_ZONE: 12
HORIZONTAL_UNITS: METERS
HORIZONTAL_RESOLUTION: 1.00000
SECONDARY_HORIZONTAL_DATUM: NAD27
XY_ORIGIN: 334654.00000 5423249.00000
SECONDARY_XY_ORIGIN: 334716.96000 5423029.83400
NATION: US
STATE: MT
NW_QUAD_CORNER_XY: 335229.26300 5422947.94600
NE_QUAD_CORNER_XY: 339805.92000 5422814.25000
SE_QUAD_CORNERY_XY: 339605.93500 5415867.21900
SW_QUAD_CORNER_XY: 335023.55900 5416000.95500
SECONDARY_NW_QUAD_XY: 335223.97700 5422729.01600
SECONDARY_NE_QUAD_XY: 339800.78200 5422595.31600
SECONDARY_SE_QUAD_XY: 339600.79600 5415648.28700
SECONDARY_SW_QUAD_XY: 335018.27400 5415782.02800
RMSE_XY: 0.80000
IMAGE_SOURCE: BLACK AND WHITE FILM
SOURCE_IMAGE_ID: NAPP 2607 088
SOURCE_IMAGE_DATE: 1990 7 12
SOURCE_DEM_DATE: 1994 11 18
AGENCY: WESTERN MAPPING CENTER (WMC)
PRODUCER: Science Applications International
PRODUCTION_SYSTEM: GIS/MAGIC
COMPRESSION: UNDEFINED
STANDARD_VERSION: 1996 12
METADATA_DATE: 1997 7 4
DATA_FILE_SIZE: 41906305
BYTE_COUNT: 5453
