FILENAME: O4811306.NWS.47069.tif
QUADRANGLE_NAME: GOOSE LAKE
QUADRANT: NW
WEST_LONGITUDE: -113 22 30.00000
EAST_LONGITUDE: -113 18 45.00000
NORTH_LATITUDE: 49 0 0.00000
SOUTH_LATITUDE: 48 56 15.00000
PRODUCTION_DATE: 1994 11 18
RASTER_ORDER: LEFT_RIGHT/TOP_BOTTOM
BAND_ORGANIZATION: SINGLE FILE
BAND_CONTENT: BLACK&WHITE
BAND_CONTENT: UNDEFINED
BAND_CONTENT: UNDEFINED
BITS_PER_PIXEL: 8
SAMPLES_AND_LINES: 5459 7692
HORIZONTAL_DATUM: NAD83
HORIZONTAL_COORDINATE_SYSTEM: UTM
COORDINATE_ZONE: 12
HORIZONTAL_UNITS: METERS
HORIZONTAL_RESOLUTION: 1.00000
SECONDARY_HORIZONTAL_DATUM: NAD27
XY_ORIGIN: 325707.00000 5430475.00000
SECONDARY_XY_ORIGIN: 325769.08500 5430255.16800
NATION: US
NATION: CA
STATE: MT
NW_QUAD_CORNER_XY: 326293.37900 5430173.61800
NE_QUAD_CORNER_XY: 330864.25700 5430032.42600
SE_QUAD_CORNERY_XY: 330652.63200 5423085.41200
SW_QUAD_CORNER_XY: 326076.02900 5423226.64700
SECONDARY_NW_QUAD_XY: 326287.79900 5429954.69500
SECONDARY_NE_QUAD_XY: 330858.82500 5429813.49800
SECONDARY_SE_QUAD_XY: 330647.19900 5422866.48600
SECONDARY_SW_QUAD_XY: 326070.44900 5423007.72600
RMSE_XY: 4.10000
IMAGE_SOURCE: BLACK AND WHITE FILM
SOURCE_IMAGE_ID: NAPP 2615 053
SOURCE_IMAGE_DATE: 1990 9 3
SOURCE_DEM_DATE: 1994 11 18
AGENCY: WESTERN MAPPING CENTER (WMC)
PRODUCER: Science Applications International
PRODUCTION_SYSTEM: GIS/MAGIC
COMPRESSION: UNDEFINED
STANDARD_VERSION: 1996 12
METADATA_DATE: 1997 7 4
DATA_FILE_SIZE: 41996087
BYTE_COUNT: 5459
