FILENAME: O4811306.SWS.47071.tif
QUADRANGLE_NAME: GOOSE LAKE
QUADRANT: SW
WEST_LONGITUDE: -113 22 30.00000
EAST_LONGITUDE: -113 18 45.00000
NORTH_LATITUDE: 48 56 15.00000
SOUTH_LATITUDE: 48 52 30.00000
PRODUCTION_DATE: 1994 11 18
RASTER_ORDER: LEFT_RIGHT/TOP_BOTTOM
BAND_ORGANIZATION: SINGLE FILE
BAND_CONTENT: BLACK&WHITE
BAND_CONTENT: UNDEFINED
BAND_CONTENT: UNDEFINED
BITS_PER_PIXEL: 8
SAMPLES_AND_LINES: 5465 7692
HORIZONTAL_DATUM: NAD83
HORIZONTAL_COORDINATE_SYSTEM: UTM
COORDINATE_ZONE: 12
HORIZONTAL_UNITS: METERS
HORIZONTAL_RESOLUTION: 1.00000
SECONDARY_HORIZONTAL_DATUM: NAD27
XY_ORIGIN: 325489.00000 5423528.00000
SECONDARY_XY_ORIGIN: 325551.36200 5423308.48800
NATION: US
STATE: MT
NW_QUAD_CORNER_XY: 326076.02900 5423226.64700
NE_QUAD_CORNER_XY: 330652.63200 5423085.41200
SE_QUAD_CORNERY_XY: 330441.21000 5416138.46200
SW_QUAD_CORNER_XY: 325858.88700 5416279.73900
SECONDARY_NW_QUAD_XY: 326070.44900 5423007.72600
SECONDARY_NE_QUAD_XY: 330647.19900 5422866.48600
SECONDARY_SE_QUAD_XY: 330435.77700 5415919.53900
SECONDARY_SW_QUAD_XY: 325853.30700 5416060.82000
RMSE_XY: 4.00000
IMAGE_SOURCE: BLACK AND WHITE FILM
SOURCE_IMAGE_ID: NAPP 2615 051
SOURCE_IMAGE_DATE: 1990 9 3
SOURCE_DEM_DATE: 1994 11 18
AGENCY: WESTERN MAPPING CENTER (WMC)
PRODUCER: Science Applications International
PRODUCTION_SYSTEM: GIS/MAGIC
COMPRESSION: UNDEFINED
STANDARD_VERSION: 1996 12
METADATA_DATE: 1997 7 4
DATA_FILE_SIZE: 42042245
BYTE_COUNT: 5465
