FILENAME: O4811305.NWS.47259.tif
QUADRANGLE_NAME: PIKE LAKE
QUADRANT: NW
WEST_LONGITUDE: -113 30 0.00000
EAST_LONGITUDE: -113 26 15.00000
NORTH_LATITUDE: 49 0 0.00000
SOUTH_LATITUDE: 48 56 15.00000
PRODUCTION_DATE: 1994 11 18
RASTER_ORDER: LEFT_RIGHT/TOP_BOTTOM
BAND_ORGANIZATION: SINGLE FILE
BAND_CONTENT: BLACK&WHITE
BAND_CONTENT: UNDEFINED
BAND_CONTENT: UNDEFINED
BITS_PER_PIXEL: 8
SAMPLES_AND_LINES: 5470 7700
HORIZONTAL_DATUM: NAD83
HORIZONTAL_COORDINATE_SYSTEM: UTM
COORDINATE_ZONE: 12
HORIZONTAL_UNITS: METERS
HORIZONTAL_RESOLUTION: 1.00000
SECONDARY_HORIZONTAL_DATUM: NAD27
XY_ORIGIN: 316554.00000 5430769.00000
SECONDARY_XY_ORIGIN: 316615.40100 5430548.78300
NATION: US
NATION: CA
STATE: MT
NW_QUAD_CORNER_XY: 317151.70900 5430467.30900
NE_QUAD_CORNER_XY: 321722.52900 5430318.57900
SE_QUAD_CORNERY_XY: 321499.45400 5423371.65200
SW_QUAD_CORNER_XY: 316922.90800 5423520.42700
SECONDARY_NW_QUAD_XY: 317145.83500 5430248.39600
SECONDARY_NE_QUAD_XY: 321716.80300 5430099.66100
SECONDARY_SE_QUAD_XY: 321493.72700 5423152.73600
SECONDARY_SW_QUAD_XY: 316917.03500 5423301.51500
RMSE_XY: 2.80000
IMAGE_SOURCE: BLACK AND WHITE FILM
SOURCE_IMAGE_ID: PAPP 7617 717
SOURCE_IMAGE_DATE: 1990 9 7
SOURCE_DEM_DATE: 1994 11 18
AGENCY: WESTERN MAPPING CENTER (WMC)
PRODUCER: Science Applications International
PRODUCTION_SYSTEM: GIS/MAGIC
COMPRESSION: UNDEFINED
STANDARD_VERSION: 1996 12
METADATA_DATE: 1997 5 19
DATA_FILE_SIZE: 42124470
BYTE_COUNT: 5470
