FILENAME: O4811305.SES.47260.tif
QUADRANGLE_NAME: PIKE LAKE
QUADRANT: SE
WEST_LONGITUDE: -113 26 15.00000
EAST_LONGITUDE: -113 22 30.00000
NORTH_LATITUDE: 48 56 15.00000
SOUTH_LATITUDE: 48 52 30.00000
PRODUCTION_DATE: 1994 11 18
RASTER_ORDER: LEFT_RIGHT/TOP_BOTTOM
BAND_ORGANIZATION: SINGLE FILE
BAND_CONTENT: BLACK&WHITE
BAND_CONTENT: UNDEFINED
BAND_CONTENT: UNDEFINED
BITS_PER_PIXEL: 8
SAMPLES_AND_LINES: 5471 7696
HORIZONTAL_DATUM: NAD83
HORIZONTAL_COORDINATE_SYSTEM: UTM
COORDINATE_ZONE: 12
HORIZONTAL_UNITS: METERS
HORIZONTAL_RESOLUTION: 1.00000
SECONDARY_HORIZONTAL_DATUM: NAD27
XY_ORIGIN: 320907.00000 5423673.00000
SECONDARY_XY_ORIGIN: 320969.07400 5423453.32100
NATION: US
STATE: MT
NW_QUAD_CORNER_XY: 321499.45400 5423371.65200
NE_QUAD_CORNER_XY: 326076.02900 5423226.64700
SE_QUAD_CORNERY_XY: 325858.88700 5416279.73900
SW_QUAD_CORNER_XY: 321276.59200 5416424.78700
SECONDARY_NW_QUAD_XY: 321493.72700 5423152.73600
SECONDARY_NE_QUAD_XY: 326070.44900 5423007.72600
SECONDARY_SE_QUAD_XY: 325853.30700 5416060.82000
SECONDARY_SW_QUAD_XY: 321270.86600 5416205.87300
RMSE_XY: 2.60000
IMAGE_SOURCE: BLACK AND WHITE FILM
SOURCE_IMAGE_ID: PAPP 7617 424
SOURCE_IMAGE_DATE: 1990 9 7
SOURCE_DEM_DATE: 1994 11 18
AGENCY: WESTERN MAPPING CENTER (WMC)
PRODUCER: Science Applications International
PRODUCTION_SYSTEM: GIS/MAGIC
COMPRESSION: UNDEFINED
STANDARD_VERSION: 1996 12
METADATA_DATE: 1997 5 19
DATA_FILE_SIZE: 42110287
BYTE_COUNT: 5471
