FILENAME: O4811304.SES.47441.tif
QUADRANGLE_NAME: CHIEF MOUNTAIN
QUADRANT: SE
WEST_LONGITUDE: -113 33 45.00000
EAST_LONGITUDE: -113 30 0.00000
NORTH_LATITUDE: 48 56 15.00000
SOUTH_LATITUDE: 48 52 30.00000
PRODUCTION_DATE: 1994 11 18
RASTER_ORDER: LEFT_RIGHT/TOP_BOTTOM
BAND_ORGANIZATION: SINGLE FILE
BAND_CONTENT: BLACK&WHITE
BAND_CONTENT: UNDEFINED
BAND_CONTENT: UNDEFINED
BITS_PER_PIXEL: 8
SAMPLES_AND_LINES: 5482 7703
HORIZONTAL_DATUM: NAD83
HORIZONTAL_COORDINATE_SYSTEM: UTM
COORDINATE_ZONE: 12
HORIZONTAL_UNITS: METERS
HORIZONTAL_RESOLUTION: 1.00000
SECONDARY_HORIZONTAL_DATUM: NAD27
XY_ORIGIN: 311742.00000 5423974.00000
SECONDARY_XY_ORIGIN: 311804.09400 5423754.28700
NATION: US
STATE: MT
NW_QUAD_CORNER_XY: 312346.39200 5423672.97200
NE_QUAD_CORNER_XY: 316922.90800 5423520.42700
SE_QUAD_CORNERY_XY: 316694.32600 5416573.60600
SW_QUAD_CORNER_XY: 312112.08900 5416726.19700
SECONDARY_NW_QUAD_XY: 312340.37100 5423454.06600
SECONDARY_NE_QUAD_XY: 316917.03500 5423301.51500
SECONDARY_SE_QUAD_XY: 316688.45300 5416354.69700
SECONDARY_SW_QUAD_XY: 312106.06900 5416507.29300
RMSE_XY: 4.80000
IMAGE_SOURCE: BLACK AND WHITE FILM
SOURCE_IMAGE_ID: PAPP 7617 616
SOURCE_IMAGE_DATE: 1990 9 7
SOURCE_DEM_DATE: 1994 11 18
AGENCY: WESTERN MAPPING CENTER (WMC)
PRODUCER: Science Applications International
PRODUCTION_SYSTEM: GIS/MAGIC
COMPRESSION: UNDEFINED
STANDARD_VERSION: 1996 12
METADATA_DATE: 1997 5 19
DATA_FILE_SIZE: 42233328
BYTE_COUNT: 5482
