FILENAME: O4811302.NWS.47779.tif
QUADRANGLE_NAME: MOUNT CLEVELAND
QUADRANT: NW
WEST_LONGITUDE: -113 52 30.00000
EAST_LONGITUDE: -113 48 45.00000
NORTH_LATITUDE: 49 0 0.00000
SOUTH_LATITUDE: 48 56 15.00000
PRODUCTION_DATE: 1995 5 4
RASTER_ORDER: LEFT_RIGHT/TOP_BOTTOM
BAND_ORGANIZATION: SINGLE FILE
BAND_CONTENT: BLACK&WHITE
BAND_CONTENT: UNDEFINED
BAND_CONTENT: UNDEFINED
BITS_PER_PIXEL: 8
SAMPLES_AND_LINES: 5507 7722
HORIZONTAL_DATUM: NAD83
HORIZONTAL_COORDINATE_SYSTEM: UTM
COORDINATE_ZONE: 12
HORIZONTAL_UNITS: METERS
HORIZONTAL_RESOLUTION: 1.00000
SECONDARY_HORIZONTAL_DATUM: NAD27
XY_ORIGIN: 289093.00000 5431740.00000
SECONDARY_XY_ORIGIN: 289156.01000 5431520.61000
NATION: US
STATE: MT
NW_QUAD_CORNER_XY: 289727.45000 5431438.85000
NE_QUAD_CORNER_XY: 294298.08000 5431267.50000
SE_QUAD_CORNERY_XY: 294040.64000 5424320.86000
SW_QUAD_CORNER_XY: 289464.28000 5424492.26000
SECONDARY_NW_QUAD_XY: 289720.69000 5431219.97000
SECONDARY_NE_QUAD_XY: 294291.47000 5431048.61000
SECONDARY_SE_QUAD_XY: 294034.03000 5424101.98000
SECONDARY_SW_QUAD_XY: 289457.53000 5424273.38000
RMSE_XY: 6.40000
IMAGE_SOURCE: BLACK AND WHITE FILM
SOURCE_IMAGE_ID: NAPP 5615 434
SOURCE_IMAGE_DATE: 1991 8 26
SOURCE_IMAGE_ID: NAPP 5615 333
SOURCE_IMAGE_DATE: 1991 8 26
SOURCE_IMAGE_ID: NAPP 5615 535
SOURCE_IMAGE_DATE: 1991 8 26
SOURCE_DEM_DATE: 1995 5 4
AGENCY: WESTERN MAPPING CENTER (WMC)
PRODUCER: Science Applications International
PRODUCTION_SYSTEM: GIS/MAGIC
COMPRESSION: UNDEFINED
STANDARD_VERSION: 1996 12
METADATA_DATE: 1997 5 20
DATA_FILE_SIZE: 42530561
BYTE_COUNT: 5507
