FILENAME: O4811301.NES.47917.tif
QUADRANGLE_NAME: PORCUPINE RIDGE
QUADRANT: NE
WEST_LONGITUDE: -113 56 15.00000
EAST_LONGITUDE: -113 52 30.00000
NORTH_LATITUDE: 49 0 0.00000
SOUTH_LATITUDE: 48 56 15.00000
PRODUCTION_DATE: 1994 11 4
RASTER_ORDER: LEFT_RIGHT/TOP_BOTTOM
BAND_ORGANIZATION: SINGLE FILE
BAND_CONTENT: BLACK&WHITE
BAND_CONTENT: UNDEFINED
BAND_CONTENT: UNDEFINED
BITS_PER_PIXEL: 8
SAMPLES_AND_LINES: 5513 7725
HORIZONTAL_DATUM: NAD83
HORIZONTAL_COORDINATE_SYSTEM: UTM
COORDINATE_ZONE: 12
HORIZONTAL_UNITS: METERS
HORIZONTAL_RESOLUTION: 1.00000
SECONDARY_HORIZONTAL_DATUM: NAD27
XY_ORIGIN: 284516.00000 5431915.00000
SECONDARY_XY_ORIGIN: 284579.15900 5431695.69200
NATION: US
NATION: CA
STATE: MT
NW_QUAD_CORNER_XY: 285156.85600 5431613.97200
NE_QUAD_CORNER_XY: 289727.44800 5431438.85200
SE_QUAD_CORNERY_XY: 289464.28400 5424492.26400
SW_QUAD_CORNER_XY: 284887.96300 5424667.43800
SECONDARY_NW_QUAD_XY: 285149.95400 5431395.09600
SECONDARY_NE_QUAD_XY: 289720.69400 5431219.97000
SECONDARY_SE_QUAD_XY: 289457.53000 5424273.38400
SECONDARY_SW_QUAD_XY: 284881.06100 5424448.56300
RMSE_XY: 4.40000
IMAGE_SOURCE: BLACK AND WHITE FILM
SOURCE_IMAGE_ID: PAPP 5615 040
SOURCE_IMAGE_DATE: 1991 8 26
SOURCE_DEM_DATE: 1994 11 4
AGENCY: WESTERN MAPPING CENTER (WMC)
PRODUCER: Science Applications International
PRODUCTION_SYSTEM: GIS/MAGIC
COMPRESSION: UNDEFINED
STANDARD_VERSION: 1996 12
METADATA_DATE: 1997 5 19
DATA_FILE_SIZE: 42593438
BYTE_COUNT: 5513
