FILENAME: O4811301.SES.47919.tif
QUADRANGLE_NAME: PORCUPINE RIDGE
QUADRANT: SE
WEST_LONGITUDE: -113 56 15.00000
EAST_LONGITUDE: -113 52 30.00000
NORTH_LATITUDE: 48 56 15.00000
SOUTH_LATITUDE: 48 52 30.00000
PRODUCTION_DATE: 1995 5 1
RASTER_ORDER: LEFT_RIGHT/TOP_BOTTOM
BAND_ORGANIZATION: SINGLE FILE
BAND_CONTENT: BLACK&WHITE
BAND_CONTENT: UNDEFINED
BAND_CONTENT: UNDEFINED
BITS_PER_PIXEL: 8
SAMPLES_AND_LINES: 5518 7725
HORIZONTAL_DATUM: NAD83
HORIZONTAL_COORDINATE_SYSTEM: UTM
COORDINATE_ZONE: 12
HORIZONTAL_UNITS: METERS
HORIZONTAL_RESOLUTION: 1.00000
SECONDARY_HORIZONTAL_DATUM: NAD27
XY_ORIGIN: 284248.00000 5424968.00000
SECONDARY_XY_ORIGIN: 284311.25000 5424748.86000
NATION: US
STATE: MT
NW_QUAD_CORNER_XY: 284887.96000 5424667.44000
NE_QUAD_CORNER_XY: 289464.28000 5424492.26000
SE_QUAD_CORNERY_XY: 289201.37000 5417545.73000
SW_QUAD_CORNER_XY: 284619.33000 5417720.96000
SECONDARY_NW_QUAD_XY: 284881.06000 5424448.56000
SECONDARY_NE_QUAD_XY: 289457.53000 5424273.38000
SECONDARY_SE_QUAD_XY: 289194.62000 5417326.86000
SECONDARY_SW_QUAD_XY: 284612.43000 5417502.09000
RMSE_XY: 6.70000
IMAGE_SOURCE: BLACK AND WHITE FILM
SOURCE_IMAGE_ID: NAPP 5615 242
SOURCE_IMAGE_DATE: 1991 8 26
SOURCE_IMAGE_ID: NAPP 5615 343
SOURCE_IMAGE_DATE: 1991 8 26
SOURCE_IMAGE_ID: NAPP 5615 141
SOURCE_IMAGE_DATE: 1991 8 26
SOURCE_DEM_DATE: 1995 5 1
AGENCY: WESTERN MAPPING CENTER (WMC)
PRODUCER: Science Applications International
PRODUCTION_SYSTEM: GIS/MAGIC
COMPRESSION: UNDEFINED
STANDARD_VERSION: 1996 12
METADATA_DATE: 1997 5 20
DATA_FILE_SIZE: 42632068
BYTE_COUNT: 5518
