FILENAME: O4811664.NES.56750.tif
QUADRANGLE_NAME: CABINET
QUADRANT: NE
WEST_LONGITUDE: -116 3 45.00000
EAST_LONGITUDE: -116 0 0.00000
NORTH_LATITUDE: 48 7 30.00000
SOUTH_LATITUDE: 48 3 45.00000
PRODUCTION_DATE: 1997 2 19
RASTER_ORDER: LEFT_RIGHT/TOP_BOTTOM
BAND_ORGANIZATION: SINGLE FILE
BAND_CONTENT: BLACK&WHITE
BAND_CONTENT: UNDEFINED
BAND_CONTENT: UNDEFINED
BITS_PER_PIXEL: 8
SAMPLES_AND_LINES: 5416 7617
HORIZONTAL_DATUM: NAD83
HORIZONTAL_COORDINATE_SYSTEM: UTM
COORDINATE_ZONE: 11
HORIZONTAL_UNITS: METERS
HORIZONTAL_RESOLUTION: 1.00000
SECONDARY_HORIZONTAL_DATUM: NAD27
XY_ORIGIN: 569388.00000 5330978.00000
SECONDARY_XY_ORIGIN: 569464.87100 5330767.83200
NATION: US
STATE: MT
STATE: ID
NW_QUAD_CORNER_XY: 569763.84500 5330618.61100
NE_QUAD_CORNER_XY: 574414.71800 5330677.16900
SE_QUAD_CORNERY_XY: 574504.96000 5323730.55200
SW_QUAD_CORNER_XY: 569848.44500 5323671.98000
SECONDARY_NW_QUAD_XY: 569766.04600 5330399.71500
SECONDARY_NE_QUAD_XY: 574417.06600 5330458.27600
SECONDARY_SE_QUAD_XY: 574507.30800 5323511.67300
SECONDARY_SW_QUAD_XY: 569850.64600 5323453.09900
RMSE_XY: 2.30000
IMAGE_SOURCE: BLACK AND WHITE FILM
SOURCE_IMAGE_ID: NAPP 8417 45
SOURCE_IMAGE_DATE: 1995 7 28
SOURCE_DEM_DATE: 1997 2 19
AGENCY: WESTERN MAPPING CENTER (WMC)
PRODUCER: USFS
PRODUCTION_SYSTEM: DV2.6.3 10/9OV2.4 5/95
COMPRESSION: UNDEFINED
STANDARD_VERSION: 1996 12
METADATA_DATE: 1997 11 2
DATA_FILE_SIZE: 41259088
BYTE_COUNT: 5416
