FILENAME: O4811664.SES.56749.tif
QUADRANGLE_NAME: CABINET
QUADRANT: SE
WEST_LONGITUDE: -116 3 45.00000
EAST_LONGITUDE: -116 0 0.00000
NORTH_LATITUDE: 48 3 45.00000
SOUTH_LATITUDE: 48 0 0.00000
PRODUCTION_DATE: 1997 2 19
RASTER_ORDER: LEFT_RIGHT/TOP_BOTTOM
BAND_ORGANIZATION: SINGLE FILE
BAND_CONTENT: BLACK&WHITE
BAND_CONTENT: UNDEFINED
BAND_CONTENT: UNDEFINED
BITS_PER_PIXEL: 8
SAMPLES_AND_LINES: 5424 7618
HORIZONTAL_DATUM: NAD83
HORIZONTAL_COORDINATE_SYSTEM: UTM
COORDINATE_ZONE: 11
HORIZONTAL_UNITS: METERS
HORIZONTAL_RESOLUTION: 1.00000
SECONDARY_HORIZONTAL_DATUM: NAD27
XY_ORIGIN: 569472.00000 5324032.00000
SECONDARY_XY_ORIGIN: 569549.00000 5323823.00000
NATION: US
STATE: MT
STATE: ID
NW_QUAD_CORNER_XY: 569848.44500 5323671.98000
NE_QUAD_CORNER_XY: 574504.96000 5323730.55200
SE_QUAD_CORNERY_XY: 574595.11200 5316784.00900
SW_QUAD_CORNER_XY: 569932.96200 5316725.42400
SECONDARY_NW_QUAD_XY: 569850.64600 5323453.09900
SECONDARY_NE_QUAD_XY: 574507.30800 5323511.67300
SECONDARY_SE_QUAD_XY: 574597.46000 5316565.14400
SECONDARY_SW_QUAD_XY: 569935.16300 5316506.55700
RMSE_XY: 2.20000
IMAGE_SOURCE: BLACK AND WHITE FILM
SOURCE_IMAGE_ID: NAPP 8417 43
SOURCE_IMAGE_DATE: 1995 7 28
SOURCE_DEM_DATE: 1997 2 19
AGENCY: WESTERN MAPPING CENTER (WMC)
PRODUCER: USFS
PRODUCTION_SYSTEM: DV2.6.3 10/9OV2.4 5/95
COMPRESSION: UNDEFINED
STANDARD_VERSION: 1996 12
METADATA_DATE: 1997 11 2
DATA_FILE_SIZE: 41325456
BYTE_COUNT: 5424
