FILENAME: O4811648.NES.56754.tif
QUADRANGLE_NAME: BENNING MOUNTAIN
QUADRANT: NE
WEST_LONGITUDE: -116 3 45.00000
EAST_LONGITUDE: -116 0 0.00000
NORTH_LATITUDE: 48 22 30.00000
SOUTH_LATITUDE: 48 18 45.00000
PRODUCTION_DATE: 1997 2 22
RASTER_ORDER: LEFT_RIGHT/TOP_BOTTOM
BAND_ORGANIZATION: SINGLE FILE
BAND_CONTENT: BLACK&WHITE
BAND_CONTENT: UNDEFINED
BAND_CONTENT: UNDEFINED
BITS_PER_PIXEL: 8
SAMPLES_AND_LINES: 5396 7616
HORIZONTAL_DATUM: NAD83
HORIZONTAL_COORDINATE_SYSTEM: UTM
COORDINATE_ZONE: 11
HORIZONTAL_UNITS: METERS
HORIZONTAL_RESOLUTION: 1.00000
SECONDARY_HORIZONTAL_DATUM: NAD27
XY_ORIGIN: 569049.00000 5358765.00000
SECONDARY_XY_ORIGIN: 569125.63900 5358553.89700
NATION: US
STATE: MT
STATE: ID
NW_QUAD_CORNER_XY: 569424.61000 5358405.87000
NE_QUAD_CORNER_XY: 574052.86000 5358464.37000
SE_QUAD_CORNERY_XY: 574143.46000 5351517.46000
SW_QUAD_CORNER_XY: 569509.54000 5351458.94000
SECONDARY_NW_QUAD_XY: 569426.81000 5358186.93000
SECONDARY_NE_QUAD_XY: 574055.21000 5358245.43000
SECONDARY_SE_QUAD_XY: 574145.81000 5351298.53000
SECONDARY_SW_QUAD_XY: 569511.74000 5351240.01000
RMSE_XY: 2.50000
IMAGE_SOURCE: BLACK AND WHITE FILM
SOURCE_IMAGE_ID: NAPP 8417 53
SOURCE_IMAGE_DATE: 1995 7 28
SOURCE_DEM_DATE: 1997 2 22
AGENCY: WESTERN MAPPING CENTER (WMC)
PRODUCER: USFS
PRODUCTION_SYSTEM: DV2.6.3 10/9OV2.4 5/95
COMPRESSION: UNDEFINED
STANDARD_VERSION: 1996 12
METADATA_DATE: 1997 11 2
DATA_FILE_SIZE: 41101332
BYTE_COUNT: 5396
