FILENAME: O4811632.SES.56757.tif
QUADRANGLE_NAME: LEONIA
QUADRANT: SE
WEST_LONGITUDE: -116 3 45.00000
EAST_LONGITUDE: -116 0 0.00000
NORTH_LATITUDE: 48 33 45.00000
SOUTH_LATITUDE: 48 30 0.00000
PRODUCTION_DATE: 1997 2 19
RASTER_ORDER: LEFT_RIGHT/TOP_BOTTOM
BAND_ORGANIZATION: SINGLE FILE
BAND_CONTENT: BLACK&WHITE
BAND_CONTENT: UNDEFINED
BAND_CONTENT: UNDEFINED
BITS_PER_PIXEL: 8
SAMPLES_AND_LINES: 5380 7617
HORIZONTAL_DATUM: NAD83
HORIZONTAL_COORDINATE_SYSTEM: UTM
COORDINATE_ZONE: 11
HORIZONTAL_UNITS: METERS
HORIZONTAL_RESOLUTION: 1.00000
SECONDARY_HORIZONTAL_DATUM: NAD27
XY_ORIGIN: 568793.00000 5379607.00000
SECONDARY_XY_ORIGIN: 568870.00000 5379396.00000
NATION: US
STATE: MT
STATE: ID
NW_QUAD_CORNER_XY: 569169.30000 5379247.09000
NE_QUAD_CORNER_XY: 573780.53000 5379305.54000
SE_QUAD_CORNERY_XY: 573871.40000 5372358.41000
SW_QUAD_CORNER_XY: 569254.49000 5372299.94000
SECONDARY_NW_QUAD_XY: 569171.50000 5379028.12000
SECONDARY_NE_QUAD_XY: 573782.88000 5379086.58000
SECONDARY_SE_QUAD_XY: 573873.75000 5372139.46000
SECONDARY_SW_QUAD_XY: 569256.69000 5372080.98000
RMSE_XY: 3.10000
IMAGE_SOURCE: BLACK AND WHITE FILM
SOURCE_IMAGE_ID: NAPP 8417 59
SOURCE_IMAGE_DATE: 1995 7 28
SOURCE_DEM_DATE: 1997 2 19
AGENCY: WESTERN MAPPING CENTER (WMC)
PRODUCER: USFS
PRODUCTION_SYSTEM: DV2.6.3 10/9OV2.4 5/95
COMPRESSION: UNDEFINED
STANDARD_VERSION: 1996 12
METADATA_DATE: 1997 11 2
DATA_FILE_SIZE: 40984840
BYTE_COUNT: 5380
