FILENAME: O4811616.NES.49374.tif
QUADRANGLE_NAME: LINE POINT
QUADRANT: NE
WEST_LONGITUDE: -116 3 45.00000
EAST_LONGITUDE: -116 0 0.00000
NORTH_LATITUDE: 48 52 30.00000
SOUTH_LATITUDE: 48 48 45.00000
PRODUCTION_DATE: 1996 3 1
RASTER_ORDER: LEFT_RIGHT/TOP_BOTTOM
BAND_ORGANIZATION: SINGLE FILE
BAND_CONTENT: BLACK&WHITE
BAND_CONTENT: UNDEFINED
BAND_CONTENT: UNDEFINED
BITS_PER_PIXEL: 8
SAMPLES_AND_LINES: 5352 7616
HORIZONTAL_DATUM: NAD83
HORIZONTAL_COORDINATE_SYSTEM: UTM
COORDINATE_ZONE: 11
HORIZONTAL_UNITS: METERS
HORIZONTAL_RESOLUTION: 1.00000
SECONDARY_HORIZONTAL_DATUM: NAD27
XY_ORIGIN: 568366.00000 5414343.00000
SECONDARY_XY_ORIGIN: 568443.53300 5414130.64000
NATION: US
STATE: MT
STATE: ID
NW_QUAD_CORNER_XY: 568742.13800 5413983.93300
NE_QUAD_CORNER_XY: 573324.88700 5414042.30600
SE_QUAD_CORNERY_XY: 573416.19300 5407094.80700
SW_QUAD_CORNER_XY: 568827.73700 5407036.41700
SECONDARY_NW_QUAD_XY: 568744.34100 5413764.94100
SECONDARY_NE_QUAD_XY: 573327.23600 5413823.31500
SECONDARY_SE_QUAD_XY: 573418.54200 5406875.82000
SECONDARY_SW_QUAD_XY: 568829.93900 5406817.42800
RMSE_XY: 2.60000
IMAGE_SOURCE: BLACK AND WHITE FILM
SOURCE_IMAGE_ID: NAPP 5076 114
SOURCE_IMAGE_DATE: 1992 6 16
SOURCE_DEM_DATE: 1996 3 1
AGENCY: WESTERN MAPPING CENTER (WMC)
PRODUCER: WMC
PRODUCTION_SYSTEM: DV2.6.3 10/9OV2.4 5/95
COMPRESSION: UNDEFINED
STANDARD_VERSION: 1996 12
METADATA_DATE: 1997 7 11
DATA_FILE_SIZE: 40766184
BYTE_COUNT: 5352
