FILENAME: O4811608.NES.56760.tif
QUADRANGLE_NAME: CANUCK PEAK
QUADRANT: NE
WEST_LONGITUDE: -116 3 45.00000
EAST_LONGITUDE: -116 0 0.00000
NORTH_LATITUDE: 49 0 0.00000
SOUTH_LATITUDE: 48 56 15.00000
PRODUCTION_DATE: 1997 3 28
RASTER_ORDER: LEFT_RIGHT/TOP_BOTTOM
BAND_ORGANIZATION: SINGLE FILE
BAND_CONTENT: BLACK&WHITE
BAND_CONTENT: UNDEFINED
BAND_CONTENT: UNDEFINED
BITS_PER_PIXEL: 8
SAMPLES_AND_LINES: 5340 7616
HORIZONTAL_DATUM: NAD83
HORIZONTAL_COORDINATE_SYSTEM: UTM
COORDINATE_ZONE: 11
HORIZONTAL_UNITS: METERS
HORIZONTAL_RESOLUTION: 1.00000
SECONDARY_HORIZONTAL_DATUM: NAD27
XY_ORIGIN: 568194.00000 5428239.00000
SECONDARY_XY_ORIGIN: 568271.00000 5428026.00000
NATION: US
STATE: MT
STATE: ID
NW_QUAD_CORNER_XY: 568570.69000 5427879.18000
NE_QUAD_CORNER_XY: 573142.01000 5427937.52000
SE_QUAD_CORNERY_XY: 573233.49000 5420989.88000
SW_QUAD_CORNER_XY: 568656.46000 5420931.52000
SECONDARY_NW_QUAD_XY: 568572.90000 5427660.19000
SECONDARY_NE_QUAD_XY: 573144.36000 5427718.53000
SECONDARY_SE_QUAD_XY: 573235.84000 5420770.88000
SECONDARY_SW_QUAD_XY: 568658.66000 5420712.53000
RMSE_XY: 3.30000
IMAGE_SOURCE: BLACK AND WHITE FILM
SOURCE_IMAGE_ID: NAPP 8423 38
SOURCE_IMAGE_DATE: 1995 9 12
SOURCE_DEM_DATE: 1997 3 28
AGENCY: WESTERN MAPPING CENTER (WMC)
PRODUCER: USFS
PRODUCTION_SYSTEM: DV2.6.3 10/9OV2.4 5/95
COMPRESSION: UNDEFINED
STANDARD_VERSION: 1996 12
METADATA_DATE: 1997 11 2
DATA_FILE_SIZE: 40674780
BYTE_COUNT: 5340
