FILENAME: O4811608.SES.56759.tif
QUADRANGLE_NAME: CANUCK PEAK
QUADRANT: SE
WEST_LONGITUDE: -116 3 45.00000
EAST_LONGITUDE: -116 0 0.00000
NORTH_LATITUDE: 48 56 15.00000
SOUTH_LATITUDE: 48 52 30.00000
PRODUCTION_DATE: 1997 3 12
RASTER_ORDER: LEFT_RIGHT/TOP_BOTTOM
BAND_ORGANIZATION: SINGLE FILE
BAND_CONTENT: BLACK&WHITE
BAND_CONTENT: UNDEFINED
BAND_CONTENT: UNDEFINED
BITS_PER_PIXEL: 8
SAMPLES_AND_LINES: 5344 7616
HORIZONTAL_DATUM: NAD83
HORIZONTAL_COORDINATE_SYSTEM: UTM
COORDINATE_ZONE: 11
HORIZONTAL_UNITS: METERS
HORIZONTAL_RESOLUTION: 1.00000
SECONDARY_HORIZONTAL_DATUM: NAD27
XY_ORIGIN: 568280.00000 5421291.00000
SECONDARY_XY_ORIGIN: 568357.55000 5421078.31900
NATION: US
STATE: MT
STATE: ID
NW_QUAD_CORNER_XY: 568656.46000 5420931.52000
NE_QUAD_CORNER_XY: 573233.49000 5420989.88000
SE_QUAD_CORNERY_XY: 573324.89000 5414042.30000
SW_QUAD_CORNER_XY: 568742.14000 5413983.93000
SECONDARY_NW_QUAD_XY: 568658.66000 5420712.53000
SECONDARY_NE_QUAD_XY: 573235.84000 5420770.88000
SECONDARY_SE_QUAD_XY: 573327.24000 5413823.32000
SECONDARY_SW_QUAD_XY: 568744.34000 5413764.94000
RMSE_XY: 1.90000
IMAGE_SOURCE: BLACK AND WHITE FILM
SOURCE_IMAGE_ID: NAPP 8423 36
SOURCE_IMAGE_DATE: 1995 9 12
SOURCE_DEM_DATE: 1997 3 12
AGENCY: WESTERN MAPPING CENTER (WMC)
PRODUCER: USFS
PRODUCTION_SYSTEM: DV2.6.3 10/9OV2.4 5/95
COMPRESSION: UNDEFINED
STANDARD_VERSION: 1996 12
METADATA_DATE: 1997 11 2
DATA_FILE_SIZE: 40705248
BYTE_COUNT: 5344
