<metadata>
  <idinfo>
    <citation>
      <citeinfo>
        <origin>SurDex Corporation
520 Spirit of St. Louis Blvd.
Chesterfield, MO 63005
(636) 532-3427
http://www.surdex.com</origin>
        <pubdate>20050114</pubdate>
        <title>Helena, Montana 2004 Color Orthophotographs</title>
        <edition>2004</edition>
        <geoform>remote-sensing image</geoform>
        <pubinfo>
          <pubplace>Helena, Montana</pubplace>
          <publish>Montana State Library</publish>
        </pubinfo>
        <onlink>http://apps.msl.mt.gov/Geographic_Information/Data/Aerial_Photos/helena_hrcolor_2004.aspx</onlink>
      </citeinfo>
    </citation>
    <descript>
      <abstract>This data set was prepared for the City of Helena, Lewis and Clark County, and the U.S. Geological Survey by Surdex Corporation of Saint Louis, Missouri.  It is an orthorectified mosiac of natural-color aerial photos from April 26, 2004.  The horizontal resolution of the images are one foot.  This data was originally provided to the State Library in UTM coordinates as TIFF images in UTM coordinates with a resolution of 0.3 meters.  The Library converted the images to State Plane Coordinates and re-sampled the resolution to one foot (0.3048 meters).</abstract>
      <purpose>Digital images or aerial photographs were captured to support various governmental, municipal, tribal, and emergency management GIS activities.  Orthorectified imagery products will be used to identify and collect geospatial information about structures, transportation, infrastructure, facilities and other information relative to multiple GIS applications.</purpose>
    </descript>
    <timeperd>
      <timeinfo>
        <sngdate>
          <caldate>20040426</caldate>
        </sngdate>
      </timeinfo>
      <current>ground condition</current>
    </timeperd>
    <status>
      <progress>Complete</progress>
      <update>None planned</update>
    </status>
    <spdom>
      <bounding>
        <westbc>-112.27</westbc>
        <eastbc>-111.86</eastbc>
        <northbc>46.76</northbc>
        <southbc>46.49</southbc>
      </bounding>
    </spdom>
    <keywords>
      <theme>
        <themekt>ISO 19115 Topic Category</themekt>
        <themekey>imageryBaseMapsEarthCover</themekey>
      </theme>
      <theme>
        <themekt>None</themekt>
        <themekey>georeferenced mosaic</themekey>
        <themekey>DOQ</themekey>
        <themekey>digital ortho imagery</themekey>
        <themekey>digital orthophoto</themekey>
        <themekey>digital image map</themekey>
        <themekey>aerial photograph</themekey>
        <themekey>rectified photograph</themekey>
        <themekey>orthophoto</themekey>
        <themekey>orthoimage</themekey>
        <themekey>rectified image</themekey>
      </theme>
      <place>
        <placekt>U.S. Department of Commerce, 1977, Countries, dependencies, areas of special sovereignty, and their principal administrative divisions (Federal Information Processing Standard 10-3): Washington, D.C., National Institute of Standards and Technology.</placekt>
        <placekey>US</placekey>
      </place>
      <place>
        <placekt>U.S. Department of Commerce, 1987, Codes for the identification of the States, the District of Columbia and the outlying areas of The United States, and associated areas (Federal Information Processing Standard 5-2): Washington, D.C., National Institute of Standards and Technology.</placekt>
        <placekey>MT</placekey>
      </place>
    </keywords>
    <accconst>None</accconst>
    <useconst>Users must assume responsibility to determine the usability of this data for their purposes.  Detailed information on varying horizontal accuracy is provided to facilitate appropriate use of the raster digital information

The Montana State Library provides this product/service for informational purposes only. The Library did not produce it for, nor is it suitable for legal, engineering, or surveying purposes. Consumers of this information should review or consult the primary data and information sources to ascertain the viability of the information for their purposes. The Library provides these data in good faith but does not represent or warrant its accuracy, adequacy, or completeness. In no event shall the Library be liable for any incorrect results or analysis; any direct, indirect, special, or consequential damages to any party; or any lost profits arising out of or in connection with the use or the inability to use the data or the services provided. The Library makes these data and services available as a convenience to the public, and for no other purpose. The Library reserves the right to change or revise published data and/or services at any time.</useconst>
    <ptcontac>
      <cntinfo>
        <cntperp>
          <cntper>RJ Zimmer</cntper>
          <cntorg>City of Helena and Lewis &amp; Clark County, MT</cntorg>
        </cntperp>
        <cntpos>GIS Center Manager</cntpos>
        <cntaddr>
          <addrtype>mailing and physical address</addrtype>
          <address>316 North Park Ave.</address>
          <city>Helena</city>
          <state>MT</state>
          <postal>59624</postal>
          <country>USA</country>
        </cntaddr>
        <cntvoice>(406) 447-8367</cntvoice>
        <cntfax> (406) 447-8386</cntfax>
        <cntemail>RJZIMMER@co.lewis-clark.mt.us</cntemail>
      </cntinfo>
    </ptcontac>
  </idinfo>
  <dataqual>
    <attracc>
      <attraccr>Rigorous QC procedures are applied during photographic acquisition and inspection to ensure minimal amounts of radiometric variability in images.   A global color balance is performed on final mosaicked images.  Slight radiometric differences may occur between adjacent orthoimages due to the following; source photography capture dates, times and sun angles of aerial photography along flight lines.</attraccr>
      <qattracc>
        <attraccv>0</attraccv>
        <attracce>none</attracce>
      </qattracc>
    </attracc>
    <logic>All tiles will be butt-matched and delivered in GEOTIFF format on DVD-ROM</logic>
    <complete>All data was accounted for and prepared as specified in the contract between Lewis &amp; Clark County and Surdex Corporation.</complete>
    <posacc>
      <horizpa>
        <horizpar>Helena Fully Analytical Aerial Triangulation Report (FAAT)</horizpar>
        <qhorizpa>
          <horizpav>2.03</horizpav>
          <horizpae>See section 3.1 of FAAT Report</horizpae>
        </qhorizpa>
      </horizpa>
      <vertacc>
        <vertaccr>No explicit vertical accuracy requirements apply to the orthophotos generated on this project.</vertaccr>
      </vertacc>
    </posacc>
    <lineage>
      <srcinfo>
        <srccite>
          <citeinfo>
            <origin>Surdex Corporation</origin>
            <pubdate>20040426</pubdate>
            <title>Surdex Aerial Photography</title>
            <geoform>remote-sensing image</geoform>
          </citeinfo>
        </srccite>
        <srcscale>1667</srcscale>
        <typesrc>stable base material</typesrc>
        <srctime>
          <timeinfo>
            <sngdate>
              <caldate>20040426</caldate>
            </sngdate>
          </timeinfo>
          <srccurr>ground condition</srccurr>
        </srctime>
        <srccitea>Surdex Aerial Photography</srccitea>
        <srccontr>Imagery Source</srccontr>
      </srcinfo>
      <srcinfo>
        <srccite>
          <citeinfo>
            <title>Surdex compiled DTM</title>
            <origin>Surdex Corp</origin>
            <pubdate>Unpublished Material</pubdate>
          </citeinfo>
        </srccite>
        <typesrc>digital file</typesrc>
        <srctime>
          <timeinfo>
            <sngdate>
              <caldate>20040426</caldate>
            </sngdate>
          </timeinfo>
          <srccurr>Elevation Data</srccurr>
        </srctime>
        <srccitea>DEM</srccitea>
        <srccontr>Provides ground elevations for orthorectification process.</srccontr>
      </srcinfo>
      <srcinfo>
        <srccite>
          <citeinfo>
            <origin>DJ&amp;A</origin>
            <pubdate>Unpublished Material</pubdate>
            <title>Control Input</title>
          </citeinfo>
        </srccite>
        <srctime>
          <timeinfo>
            <sngdate>
              <caldate>20040426</caldate>
            </sngdate>
          </timeinfo>
          <srccurr>Control Data</srccurr>
        </srctime>
        <srccitea>control</srccitea>
        <srccontr>ground control used to establish positions for reference and correlation purposes and as input to the aerotriangulation process.  Control consists of both airborne GPS to provide camera station positions and photoidentifiable surveyed ground control for ground reference.</srccontr>
      </srcinfo>
      <srcinfo>
        <srccite>
          <citeinfo>
            <origin>U.S. Geological Survey</origin>
            <pubdate>20021002</pubdate>
            <title>Report of Calibration</title>
          </citeinfo>
        </srccite>
        <srctime>
          <timeinfo>
            <sngdate>
              <caldate>20021002</caldate>
            </sngdate>
          </timeinfo>
          <srccurr>date of camera calibration associated with the source photography</srccurr>
        </srctime>
        <srccitea>camera input</srccitea>
        <srccontr>camera calibration parameters</srccontr>
      </srcinfo>
      <procstep>
        <procdesc>The process description for the source information is detailed in the Analytical Aerial Triangulation report for Helena, MT.  Any other process description regarding how the digital orthophoto data was produced can be obtained from Surdex Corporation.  The complete processes used by Surdex contains sensitive business procedures that are proprietary to Surdex.  Surdex is willing to release this information to interested parties provided a binding Non-Disclosure Agreement has been executed.</procdesc>
        <procdate>20041001</procdate>
        <proccont>
          <cntinfo>
            <cntorgp>
              <cntorg>Surdex Organization</cntorg>
              <cntper>Wade Williams</cntper>
            </cntorgp>
            <cntpos>Project Manager</cntpos>
            <cntaddr>
              <addrtype>mailing and physical address</addrtype>
              <address>520 Spirit of St. Louis Blvd.</address>
              <city>Chesterfield</city>
              <state>MO</state>
              <postal>63005</postal>
              <country>USA</country>
            </cntaddr>
            <cntvoice>(636) 532-3427</cntvoice>
            <cntfax>(636) 537-9638</cntfax>
            <cntemail>wadew@surdex.com</cntemail>
            <hours>9:00a.m.-5:00p.m.</hours>
          </cntinfo>
        </proccont>
      </procstep>
    </lineage>
  </dataqual>
  <spdoinfo>
    <direct>raster</direct>
    <rastinfo>
      <rasttype Sync="TRUE">Pixel</rasttype>
      <rowcount Sync="TRUE">50720</rowcount>
      <colcount Sync="TRUE">56810</colcount>
      <vrtcount Sync="TRUE">1</vrtcount>
      <rastband Sync="TRUE">3</rastband>
    </rastinfo>
  </spdoinfo>
  <spref>
    <horizsys>
      <planar>
        <gridsys>
          <gridsysn>State Plane Coordinate System</gridsysn>
          <spcs>
            <spcszone>2500</spcszone>
            <lambertc>
              <stdparll>45.000</stdparll>
              <stdparll>49.000</stdparll>
              <longcm>-109.500000</longcm>
              <latprjo>44.250000</latprjo>
              <feast>60000.000</feast>
              <fnorth>0.000</fnorth>
            </lambertc>
          </spcs>
        </gridsys>
        <planci>
          <plance>row and column</plance>
          <coordrep>
            <absres>0.3048</absres>
            <ordres>0.3048</ordres>
          </coordrep>
          <plandu>meters</plandu>
        </planci>
      </planar>
      <geodetic>
        <horizdn>North American Datum of 1983</horizdn>
        <ellips>Geodetic Reference System 1980</ellips>
        <semiaxis>6378137.000000</semiaxis>
        <denflat>298.257222</denflat>
      </geodetic>
      <cordsysn>
        <projcsn>Montana State Plane</projcsn>
      </cordsysn>
    </horizsys>
  </spref>
  <distinfo>
    <distrib>
      <cntinfo>
        <cntorgp>
          <cntorg>Montana State Library</cntorg>
        </cntorgp>
        <cntaddr>
          <addrtype>mailing address</addrtype>
          <address>PO Box 201800</address>
          <city>Helena</city>
          <state>MT</state>
          <postal>59620-1800</postal>
        </cntaddr>
        <cntvoice>406-444-5354</cntvoice>
        <cnttdd>406-444-4799</cnttdd>
        <cntfax>406-444-0266</cntfax>
        <cntemail>geoinfo@mt.gov</cntemail>
      </cntinfo>
    </distrib>
    <distliab>The Montana State Library provides this product/service for informational purposes only. The Library did not produce it for, nor is it suitable for legal, engineering, or surveying purposes. Consumers of this information should review or consult the primary data and information sources to ascertain the viability of the information for their purposes. The Library provides these data in good faith but does not represent or warrant its accuracy, adequacy, or completeness. In no event shall the Library be liable for any incorrect results or analysis; any direct, indirect, special, or consequential damages to any party; or any lost profits arising out of or in connection with the use or the inability to use the data or the services provided. The Library makes these data and services available as a convenience to the public, and for no other purpose. The Library reserves the right to change or revise published data and/or services at any time.</distliab>
    <resdesc>Downloadable Data</resdesc>
    <stdorder>
      <digform>
        <digtinfo>
          <formname>MrSID Image</formname>
        </digtinfo>
        <digtopt>
          <onlinopt>
            <computer>
              <networka>
                <networkr>http://apps.msl.mt.gov/Geographic_Information/Data/Aerial_Photos/helena_hrcolor_2004.aspx</networkr>
              </networka>
            </computer>
          </onlinopt>
        </digtopt>
      </digform>
    </stdorder>
  </distinfo>
  <metainfo>
    <metd>20130719</metd>
    <metrd>20130417</metrd>
    <metrd>20041210</metrd>
    <metc>
      <cntinfo>
        <cntperp>
          <cntper>Edward D'Sousa</cntper>
          <cntorg>Surdex Corporation</cntorg>
        </cntperp>
        <cntpos>Project Manager</cntpos>
        <cntaddr>
          <addrtype>mailing and physical address</addrtype>
          <address>520 Spirit of St. Louis Blvd</address>
          <city>Chesterfield</city>
          <state>MO</state>
          <postal>63005</postal>
          <country>USA</country>
        </cntaddr>
        <cntvoice>(636) 532-3427</cntvoice>
        <cntfax>(636) 537-9638</cntfax>
        <cntemail>dsousa@surdex.com</cntemail>
        <hours>9:00a.m. - 5:00p.m.</hours>
      </cntinfo>
    </metc>
    <metstdn>FGDC Content Standard for Digital Geospatial Metadata</metstdn>
    <metstdv>FGDC-STD-001-1998</metstdv>
  </metainfo>
  <Esri>
    <PublishedDocID>{4CBAB2A6-EFB5-4469-AB07-63491A2DE3FD}</PublishedDocID>
  </Esri>
</metadata>
