FILENAME: O4411132.SWS.831872.tif
QUADRANGLE_NAME: JACK STRAW BASIN
QUADRANT: SW
WEST_LONGITUDE: -111 7 30.00000
EAST_LONGITUDE: -111 3 45.00000
NORTH_LATITUDE: 44 33 45.00000
SOUTH_LATITUDE: 44 30 0.00000
PRODUCTION_DATE: 1997 12 17
RASTER_ORDER: LEFT_RIGHT/TOP_BOTTOM
BAND_ORGANIZATION: SINGLE FILE
BAND_CONTENT: BLACK&WHITE
BAND_CONTENT: UNDEFINED
BAND_CONTENT: UNDEFINED
BITS_PER_PIXEL: 8
SAMPLES_AND_LINES: 5638 7559
HORIZONTAL_DATUM: NAD83
HORIZONTAL_COORDINATE_SYSTEM: UTM
COORDINATE_ZONE: 12
HORIZONTAL_UNITS: METERS
HORIZONTAL_RESOLUTION: 1.00000
SECONDARY_HORIZONTAL_DATUM: NAD27
XY_ORIGIN: 489700.00000 4934660.00000
SECONDARY_XY_ORIGIN: 489761.34000 4934451.35700
NATION: US
NATION: "SCIENCE
STATE: MT
NW_QUAD_CORNER_XY: 490073.40300 4934359.16300
NE_QUAD_CORNER_XY: 495036.70200 4934353.46400
SE_QUAD_CORNERY_XY: 495031.39100 4927411.07900
SW_QUAD_CORNER_XY: 490062.78100 4927416.77700
SECONDARY_NW_QUAD_XY: 490073.11300 4934142.38200
SECONDARY_NE_QUAD_XY: 495036.55600 4934136.68300
SECONDARY_SE_QUAD_XY: 495031.24600 4927194.36000
SECONDARY_SW_QUAD_XY: 490062.49100 4927200.05800
RMSE_XY: 1.80000
IMAGE_SOURCE: BLACK AND WHITE FILM
SOURCE_IMAGE_ID: NAPP 7817 062
SOURCE_IMAGE_DATE: 1994 06 27
SOURCE_IMAGE_ID: NAPP 4935 155
SOURCE_IMAGE_DATE: 1992 08 26
SOURCE_IMAGE_ID: NAPP 7817 063
SOURCE_IMAGE_DATE: 1994 06 27
SOURCE_DEM_DATE: 1980 07 00
AGENCY: WESTERN MAPPING CENTER (WMC)
PRODUCER: UNDEFINED
PRODUCTION_SYSTEM: GIS/MAGIC
COMPRESSION: UNDEFINED
STANDARD_VERSION: 1996 12
METADATA_DATE: 1997 12 17
DATA_FILE_SIZE: 42623280
BYTE_COUNT: 5638
