FILENAME: O4411125.NES.1077786.tif
QUADRANGLE_NAME: WINSLOW CREEK
QUADRANT: NE
WEST_LONGITUDE: -111 56 15.00000
EAST_LONGITUDE: -111 52 30.00000
NORTH_LATITUDE: 44 37 30.00000
SOUTH_LATITUDE: 44 33 45.00000
PRODUCTION_DATE: 2000 3 17
RASTER_ORDER: LEFT_RIGHT/TOP_BOTTOM
BAND_ORGANIZATION: SINGLE FILE
BAND_CONTENT: BLACK&WHITE
BAND_CONTENT: UNDEFINED
BAND_CONTENT: UNDEFINED
BITS_PER_PIXEL: 8
SAMPLES_AND_LINES: 5706 7609
HORIZONTAL_DATUM: NAD83
HORIZONTAL_COORDINATE_SYSTEM: UTM
COORDINATE_ZONE: 12
HORIZONTAL_UNITS: METERS
HORIZONTAL_RESOLUTION: 1.00000
SECONDARY_HORIZONTAL_DATUM: NAD27
XY_ORIGIN: 425184.00000 4942022.00000
SECONDARY_XY_ORIGIN: 425246.31300 4941813.92100
NATION: US
NATION: "SCIENCE
STATE: MT
STATE: ID
NW_QUAD_CORNER_XY: 425630.22700 4941721.45000
NE_QUAD_CORNER_XY: 430588.21700 4941666.35800
SE_QUAD_CORNERY_XY: 430513.77600 4934723.88300
SW_QUAD_CORNER_XY: 425550.46700 4934778.97400
SECONDARY_NW_QUAD_XY: 425628.05000 4941504.62100
SECONDARY_NE_QUAD_XY: 430586.18600 4941449.52700
SECONDARY_SE_QUAD_XY: 430511.74500 4934507.11300
SECONDARY_SW_QUAD_XY: 425548.29100 4934562.20500
RMSE_XY: 1.40000
IMAGE_SOURCE: BLACK AND WHITE FILM
SOURCE_IMAGE_ID: NAPP 8376 207
SOURCE_IMAGE_DATE: 1995 08 15
SOURCE_IMAGE_ID: NAPP 8376 208
SOURCE_IMAGE_DATE: 1995 08 15
SOURCE_DEM_DATE: 1988 00 00
AGENCY: WESTERN MAPPING CENTER (WMC)
PRODUCER: UNDEFINED
PRODUCTION_SYSTEM: GIS/MAGIC
COMPRESSION: UNDEFINED
STANDARD_VERSION: 1996 12
METADATA_DATE: 2000 05 26
DATA_FILE_SIZE: 43422660
BYTE_COUNT: 5706
