FILENAME: O4411124.NWS.831866.tif
QUADRANGLE_NAME: WEST YELLOWSTONE
QUADRANT: NW
WEST_LONGITUDE: -111 7 30.00000
EAST_LONGITUDE: -111 3 45.00000
NORTH_LATITUDE: 44 45 0.00000
SOUTH_LATITUDE: 44 41 15.00000
PRODUCTION_DATE: 1997 11 24
RASTER_ORDER: LEFT_RIGHT/TOP_BOTTOM
BAND_ORGANIZATION: SINGLE FILE
BAND_CONTENT: BLACK&WHITE
BAND_CONTENT: UNDEFINED
BAND_CONTENT: UNDEFINED
BITS_PER_PIXEL: 8
SAMPLES_AND_LINES: 5622 7559
HORIZONTAL_DATUM: NAD83
HORIZONTAL_COORDINATE_SYSTEM: UTM
COORDINATE_ZONE: 12
HORIZONTAL_UNITS: METERS
HORIZONTAL_RESOLUTION: 1.00000
SECONDARY_HORIZONTAL_DATUM: NAD27
XY_ORIGIN: 489732.00000 4955487.00000
SECONDARY_XY_ORIGIN: 489793.29600 4955277.99700
NATION: US
NATION: "SCIENCE
STATE: MT
NW_QUAD_CORNER_XY: 490105.34000 4955186.77800
NE_QUAD_CORNER_XY: 495052.67000 4955181.07900
SE_QUAD_CORNERY_XY: 495047.34100 4948238.46400
SW_QUAD_CORNER_XY: 490094.68200 4948244.16300
SECONDARY_NW_QUAD_XY: 490105.04900 4954969.81600
SECONDARY_NE_QUAD_XY: 495052.52500 4954964.11700
SECONDARY_SE_QUAD_XY: 495047.19600 4948021.56200
SECONDARY_SW_QUAD_XY: 490094.39200 4948027.26100
RMSE_XY: 3.10000
IMAGE_SOURCE: BLACK AND WHITE FILM
SOURCE_IMAGE_ID: NAPP 7817 068
SOURCE_IMAGE_DATE: 1994 06 27
SOURCE_DEM_DATE: 1980 07 00
AGENCY: WESTERN MAPPING CENTER (WMC)
PRODUCER: UNDEFINED
PRODUCTION_SYSTEM: GIS/MAGIC
COMPRESSION: UNDEFINED
STANDARD_VERSION: 1996 12
METADATA_DATE: 1997 12 17
DATA_FILE_SIZE: 42502320
BYTE_COUNT: 5622
