FILENAME: O4411120.SWS.1077981.tif
QUADRANGLE_NAME: HIDDEN LAKE BENCH
QUADRANT: SW
WEST_LONGITUDE: -111 37 30.00000
EAST_LONGITUDE: -111 33 45.00000
NORTH_LATITUDE: 44 41 15.00000
SOUTH_LATITUDE: 44 37 30.00000
PRODUCTION_DATE: 2000 5 2
RASTER_ORDER: LEFT_RIGHT/TOP_BOTTOM
BAND_ORGANIZATION: SINGLE FILE
BAND_CONTENT: BLACK&WHITE
BAND_CONTENT: UNDEFINED
BAND_CONTENT: UNDEFINED
BITS_PER_PIXEL: 8
SAMPLES_AND_LINES: 5673 7590
HORIZONTAL_DATUM: NAD83
HORIZONTAL_COORDINATE_SYSTEM: UTM
COORDINATE_ZONE: 12
HORIZONTAL_UNITS: METERS
HORIZONTAL_RESOLUTION: 1.00000
SECONDARY_HORIZONTAL_DATUM: NAD27
XY_ORIGIN: 450055.00000 4948727.00000
SECONDARY_XY_ORIGIN: 450116.80300 4948518.50400
NATION: US
NATION: "SCIENCE
STATE: MT
NW_QUAD_CORNER_XY: 450473.39900 4948426.53200
NE_QUAD_CORNER_XY: 455426.06200 4948390.43700
SE_QUAD_CORNERY_XY: 455378.15500 4941447.89500
SW_QUAD_CORNER_XY: 450420.16900 4941483.98800
SECONDARY_NW_QUAD_XY: 450471.94800 4948209.63500
SECONDARY_NE_QUAD_XY: 455424.75500 4948173.53900
SECONDARY_SE_QUAD_XY: 455376.84900 4941231.05700
SECONDARY_SW_QUAD_XY: 450418.71800 4941267.15100
RMSE_XY: 2.60000
IMAGE_SOURCE: BLACK AND WHITE FILM
SOURCE_IMAGE_ID: NAPP 8374 123
SOURCE_IMAGE_DATE: 1995 08 12
SOURCE_IMAGE_ID: NAPP 8374 160
SOURCE_IMAGE_DATE: 1995 08 12
SOURCE_IMAGE_ID: NAPP 8374 158
SOURCE_IMAGE_DATE: 1995 08 12
SOURCE_IMAGE_ID: NAPP 8376 128
SOURCE_IMAGE_DATE: 1995 08 15
SOURCE_IMAGE_ID: NAPP 8376 126
SOURCE_IMAGE_DATE: 1995 08 15
SOURCE_DEM_DATE: 1991 00 00
AGENCY: WESTERN MAPPING CENTER (WMC)
PRODUCER: UNDEFINED
PRODUCTION_SYSTEM: GIS/MAGIC
COMPRESSION: UNDEFINED
STANDARD_VERSION: 1996 12
METADATA_DATE: 2000 05 26
DATA_FILE_SIZE: 43063743
BYTE_COUNT: 5673
