FILENAME: O4411119.SES.1077934.tif
QUADRANGLE_NAME: ELK SPRINGS
QUADRANT: SE
WEST_LONGITUDE: -111 41 15.00000
EAST_LONGITUDE: -111 37 30.00000
NORTH_LATITUDE: 44 41 15.00000
SOUTH_LATITUDE: 44 37 30.00000
PRODUCTION_DATE: 2000 3 21
RASTER_ORDER: LEFT_RIGHT/TOP_BOTTOM
BAND_ORGANIZATION: SINGLE FILE
BAND_CONTENT: BLACK&WHITE
BAND_CONTENT: UNDEFINED
BAND_CONTENT: UNDEFINED
BITS_PER_PIXEL: 8
SAMPLES_AND_LINES: 5678 7594
HORIZONTAL_DATUM: NAD83
HORIZONTAL_COORDINATE_SYSTEM: UTM
COORDINATE_ZONE: 12
HORIZONTAL_UNITS: METERS
HORIZONTAL_RESOLUTION: 1.00000
SECONDARY_HORIZONTAL_DATUM: NAD27
XY_ORIGIN: 445097.00000 4948767.00000
SECONDARY_XY_ORIGIN: 445158.81000 4948558.55300
NATION: US
NATION: "SCIENCE
STATE: MT
NW_QUAD_CORNER_XY: 445520.73600 4948466.42600
NE_QUAD_CORNER_XY: 450473.39900 4948426.53200
SE_QUAD_CORNERY_XY: 450420.16900 4941483.98800
SW_QUAD_CORNER_XY: 445462.18300 4941523.88100
SECONDARY_NW_QUAD_XY: 445519.14000 4948249.53000
SECONDARY_NE_QUAD_XY: 450471.94800 4948209.63500
SECONDARY_SE_QUAD_XY: 450418.71800 4941267.15100
SECONDARY_SW_QUAD_XY: 445460.58700 4941307.04500
RMSE_XY: 3.10000
IMAGE_SOURCE: BLACK AND WHITE FILM
SOURCE_IMAGE_ID: NAPP 8374 159
SOURCE_IMAGE_DATE: 1995 08 12
SOURCE_IMAGE_ID: NAPP 8374 161
SOURCE_IMAGE_DATE: 1995 08 12
SOURCE_IMAGE_ID: NAPP 8374 160
SOURCE_IMAGE_DATE: 1995 08 12
SOURCE_IMAGE_ID: NAPP 8376 126
SOURCE_IMAGE_DATE: 1995 08 15
SOURCE_DEM_DATE: 1982 00 00
AGENCY: WESTERN MAPPING CENTER (WMC)
PRODUCER: UNDEFINED
PRODUCTION_SYSTEM: GIS/MAGIC
COMPRESSION: UNDEFINED
STANDARD_VERSION: 1996 12
METADATA_DATE: 2000 05 26
DATA_FILE_SIZE: 43124410
BYTE_COUNT: 5678
