FILENAME: O4411119.SWS.1077935.tif
QUADRANGLE_NAME: ELK SPRINGS
QUADRANT: SW
WEST_LONGITUDE: -111 45 0.00000
EAST_LONGITUDE: -111 41 15.00000
NORTH_LATITUDE: 44 41 15.00000
SOUTH_LATITUDE: 44 37 30.00000
PRODUCTION_DATE: 2000 3 20
RASTER_ORDER: LEFT_RIGHT/TOP_BOTTOM
BAND_ORGANIZATION: SINGLE FILE
BAND_CONTENT: BLACK&WHITE
BAND_CONTENT: UNDEFINED
BAND_CONTENT: UNDEFINED
BITS_PER_PIXEL: 8
SAMPLES_AND_LINES: 5683 7598
HORIZONTAL_DATUM: NAD83
HORIZONTAL_COORDINATE_SYSTEM: UTM
COORDINATE_ZONE: 12
HORIZONTAL_UNITS: METERS
HORIZONTAL_RESOLUTION: 1.00000
SECONDARY_HORIZONTAL_DATUM: NAD27
XY_ORIGIN: 440139.00000 4948811.00000
SECONDARY_XY_ORIGIN: 440200.81600 4948602.60100
NATION: US
NATION: "SCIENCE
STATE: MT
NW_QUAD_CORNER_XY: 440568.07300 4948510.12000
NE_QUAD_CORNER_XY: 445520.73600 4948466.42600
SE_QUAD_CORNERY_XY: 445462.18300 4941523.88100
SW_QUAD_CORNER_XY: 440504.19500 4941567.57300
SECONDARY_NW_QUAD_XY: 440566.33100 4948293.22500
SECONDARY_NE_QUAD_XY: 445519.14000 4948249.53000
SECONDARY_SE_QUAD_XY: 445460.58700 4941307.04500
SECONDARY_SW_QUAD_XY: 440502.45400 4941350.73900
RMSE_XY: 0.70000
IMAGE_SOURCE: BLACK AND WHITE FILM
SOURCE_IMAGE_ID: NAPP 8374 134
SOURCE_IMAGE_DATE: 1995 08 12
SOURCE_IMAGE_ID: NAPP 8374 136
SOURCE_IMAGE_DATE: 1995 08 12
SOURCE_IMAGE_ID: NAPP 8374 159
SOURCE_IMAGE_DATE: 1995 08 12
SOURCE_DEM_DATE: 1982 00 00
AGENCY: WESTERN MAPPING CENTER (WMC)
PRODUCER: UNDEFINED
PRODUCTION_SYSTEM: GIS/MAGIC
COMPRESSION: UNDEFINED
STANDARD_VERSION: 1996 12
METADATA_DATE: 2000 05 26
DATA_FILE_SIZE: 43185117
BYTE_COUNT: 5683
