FILENAME: O4411113.NES.980237.tif
QUADRANGLE_NAME: EARTHQUAKE LAKE
QUADRANT: NE
WEST_LONGITUDE: -111 26 15.00000
EAST_LONGITUDE: -111 22 30.00000
NORTH_LATITUDE: 44 52 30.00000
SOUTH_LATITUDE: 44 48 45.00000
PRODUCTION_DATE: 1999 3 8
RASTER_ORDER: LEFT_RIGHT/TOP_BOTTOM
BAND_ORGANIZATION: SINGLE FILE
BAND_CONTENT: BLACK&WHITE
BAND_CONTENT: UNDEFINED
BAND_CONTENT: UNDEFINED
BITS_PER_PIXEL: 8
SAMPLES_AND_LINES: 5640 7578
HORIZONTAL_DATUM: NAD83
HORIZONTAL_COORDINATE_SYSTEM: UTM
COORDINATE_ZONE: 12
HORIZONTAL_UNITS: METERS
HORIZONTAL_RESOLUTION: 1.00000
SECONDARY_HORIZONTAL_DATUM: NAD27
XY_ORIGIN: 465042.00000 4969458.00000
SECONDARY_XY_ORIGIN: 465103.62500 4969248.86800
NATION: US
NATION: "SCIENCE
STATE: MT
NW_QUAD_CORNER_XY: 465443.41400 4969157.72500
NE_QUAD_CORNER_XY: 470380.06900 4969133.02800
SE_QUAD_CORNERY_XY: 470348.02600 4962190.26000
SW_QUAD_CORNER_XY: 465406.02900 4962214.95700
SECONDARY_NW_QUAD_XY: 465442.39700 4968940.65000
SECONDARY_NE_QUAD_XY: 470379.19800 4968915.95200
SECONDARY_SE_QUAD_XY: 470347.15400 4961973.24200
SECONDARY_SW_QUAD_XY: 465405.01200 4961997.93900
RMSE_XY: 2.10000
IMAGE_SOURCE: BLACK AND WHITE FILM
SOURCE_IMAGE_ID: NAPP 8374 051
SOURCE_IMAGE_DATE: 1995 08 12
SOURCE_IMAGE_ID: NAPP 8374 073
SOURCE_IMAGE_DATE: 1995 08 12
SOURCE_IMAGE_ID: NAPP 8374 075
SOURCE_IMAGE_DATE: 1995 08 12
SOURCE_IMAGE_ID: NAPP 8374 052
SOURCE_IMAGE_DATE: 1995 08 12
SOURCE_IMAGE_ID: NAPP 8374 050
SOURCE_IMAGE_DATE: 1995 08 12
SOURCE_DEM_DATE: 1980 09 00
AGENCY: WESTERN MAPPING CENTER (WMC)
PRODUCER: UNDEFINED
PRODUCTION_SYSTEM: GIS/MAGIC
COMPRESSION: UNDEFINED
STANDARD_VERSION: 1996 12
METADATA_DATE: 1999 03 26
DATA_FILE_SIZE: 42745560
BYTE_COUNT: 5640
