FILENAME: O4411111.NES.971424.tif
QUADRANGLE_NAME: FREEZEOUT MOUNTAIN
QUADRANT: NE
WEST_LONGITUDE: -111 41 15.00000
EAST_LONGITUDE: -111 37 30.00000
NORTH_LATITUDE: 44 52 30.00000
SOUTH_LATITUDE: 44 48 45.00000
PRODUCTION_DATE: 1999 2 25
RASTER_ORDER: LEFT_RIGHT/TOP_BOTTOM
BAND_ORGANIZATION: SINGLE FILE
BAND_CONTENT: BLACK&WHITE
BAND_CONTENT: UNDEFINED
BAND_CONTENT: UNDEFINED
BITS_PER_PIXEL: 8
SAMPLES_AND_LINES: 5662 7594
HORIZONTAL_DATUM: NAD83
HORIZONTAL_COORDINATE_SYSTEM: UTM
COORDINATE_ZONE: 12
HORIZONTAL_UNITS: METERS
HORIZONTAL_RESOLUTION: 1.00000
SECONDARY_HORIZONTAL_DATUM: NAD27
XY_ORIGIN: 445273.00000 4969595.00000
SECONDARY_XY_ORIGIN: 445334.83100 4969385.95500
NATION: US
NATION: "SCIENCE
STATE: MT
NW_QUAD_CORNER_XY: 445696.78800 4969294.51200
NE_QUAD_CORNER_XY: 450633.44500 4969254.61500
SE_QUAD_CORNERY_XY: 450580.03700 4962311.84500
SW_QUAD_CORNER_XY: 445638.03900 4962351.74100
SECONDARY_NW_QUAD_XY: 445695.19000 4969077.44100
SECONDARY_NE_QUAD_XY: 450631.99200 4969037.54300
SECONDARY_SE_QUAD_XY: 450578.58500 4962094.83100
SECONDARY_SW_QUAD_XY: 445636.44100 4962134.72800
RMSE_XY: 2.80000
IMAGE_SOURCE: BLACK AND WHITE FILM
SOURCE_IMAGE_ID: NAPP 8374 153
SOURCE_IMAGE_DATE: 1995 08 12
SOURCE_DEM_DATE: 1976 08 00
AGENCY: WESTERN MAPPING CENTER (WMC)
PRODUCER: UNDEFINED
PRODUCTION_SYSTEM: GIS/MAGIC
COMPRESSION: UNDEFINED
STANDARD_VERSION: 1996 12
METADATA_DATE: 1999 03 01
DATA_FILE_SIZE: 43002890
BYTE_COUNT: 5662
