FILENAME: O4411110.NWS.789306.tif
QUADRANGLE_NAME: WINDY HILL
QUADRANT: NW
WEST_LONGITUDE: -111 52 30.00000
EAST_LONGITUDE: -111 48 45.00000
NORTH_LATITUDE: 44 52 30.00000
SOUTH_LATITUDE: 44 48 45.00000
PRODUCTION_DATE: 1997 11 4
RASTER_ORDER: LEFT_RIGHT/TOP_BOTTOM
BAND_ORGANIZATION: SINGLE FILE
BAND_CONTENT: BLACK&WHITE
BAND_CONTENT: UNDEFINED
BAND_CONTENT: UNDEFINED
BITS_PER_PIXEL: 8
SAMPLES_AND_LINES: 5675 7602
HORIZONTAL_DATUM: NAD83
HORIZONTAL_COORDINATE_SYSTEM: UTM
COORDINATE_ZONE: 12
HORIZONTAL_UNITS: METERS
HORIZONTAL_RESOLUTION: 1.00000
SECONDARY_HORIZONTAL_DATUM: NAD27
XY_ORIGIN: 430448.55300 4969736.50300
SECONDARY_XY_ORIGIN: 430510.32200 4969527.71200
NATION: US
STATE: MT
NW_QUAD_CORNER_XY: 430886.81500 4969437.00300
NE_QUAD_CORNER_XY: 435823.47300 4969385.70600
SE_QUAD_CORNERY_XY: 435754.04100 4962442.93400
SW_QUAD_CORNER_XY: 430812.04200 4962494.23000
SECONDARY_NW_QUAD_XY: 430884.78100 4969219.93600
SECONDARY_NE_QUAD_XY: 435821.58500 4969168.63700
SECONDARY_SE_QUAD_XY: 435752.15300 4962225.92300
SECONDARY_SW_QUAD_XY: 430810.00800 4962277.22000
RMSE_XY: 3.70000
IMAGE_SOURCE: BLACK AND WHITE FILM
SOURCE_IMAGE_ID: NAPP 8376 222
SOURCE_IMAGE_DATE: 1995 8 15
SOURCE_DEM_DATE: 1997 11 4
AGENCY: WESTERN MAPPING CENTER (WMC)
PRODUCER: NIES MAPPING GROUP
PRODUCTION_SYSTEM: INTERGRAPH- ISPM,ISIR
COMPRESSION: UNDEFINED
STANDARD_VERSION: 1996 12
METADATA_DATE: 1998 2 5
DATA_FILE_SIZE: 43147025
BYTE_COUNT: 5675
